BEGIN:VCALENDAR
VERSION:2.0
PRODID:-//wp-events-plugin.com//7.2.3.1//EN
TZID:America/New_York
X-WR-TIMEZONE:America/New_York
BEGIN:VEVENT
UID:706@breathemiami.us
DTSTART;TZID=America/New_York:20240813T190000
DTEND;TZID=America/New_York:20240813T200000
DTSTAMP:20240810T155651Z
URL:https://breathemiami.us/events/zumba-with-jenny-de-guzman/
SUMMARY:Zumba with Jenny de Guzman
DESCRIPTION:Get ready to groove with Jenny de Guzman in a high-energy Zumba
  class that promises to leave you feeling exhilarated and ready to dance t
 he night away!\n\nJenny’s dynamic rhythms and infectious energy will gui
 de you through a series of fun and easy-to-follow dance moves\, all set to
  the hottest beats that will keep your feet moving and your heart pumping.
  Whether you're a seasoned dancer or new to the world of Zumba\, this clas
 s is all about letting loose\, having fun\, and enjoying the movement.\n\n
 Don't miss out on this chance to shake off stress and embrace the joy of d
 ance in a supportive and lively atmosphere. Join us for a session that wil
 l lift your spirits\, boost your energy\, and leave you feeling like a dan
 ce floor superstar!\n\nGET TICKETS\n
ATTACH;FMTTYPE=image/jpeg:https://breathemiami.us/wp-content/uploads/2024/
 08/Zumba-with-Jenny-de-Guzman.jpg
CATEGORIES:Mindfulness Events,Sports &amp; Fitness Events,Things To
 Do,Wellness Events
LOCATION:Doral Cultural Arts Center\, 8363 Northwest 53rd Street Doral\, Mi
 ami\, Florida\, 33166\, FL\, United States
X-APPLE-STRUCTURED-LOCATION;VALUE=URI;X-ADDRESS=8363 Northwest 53rd Street 
 Doral\, Miami\, Florida\, 33166\, FL\, United States;X-APPLE-RADIUS=100;X-
 TITLE=Doral Cultural Arts Center:geo:0,0
END:VEVENT
BEGIN:VTIMEZONE
TZID:America/New_York
X-LIC-LOCATION:America/New_York
BEGIN:DAYLIGHT
DTSTART:20240310T030000
TZOFFSETFROM:-0500
TZOFFSETTO:-0400
TZNAME:EDT
END:DAYLIGHT
END:VTIMEZONE
END:VCALENDAR