BEGIN:VCALENDAR
VERSION:2.0
PRODID:-//wp-events-plugin.com//7.2.3.1//EN
TZID:America/New_York
X-WR-TIMEZONE:America/New_York
BEGIN:VEVENT
UID:136@breathemiami.us
DTSTART;TZID=America/New_York:20241026T100000
DTEND;TZID=America/New_York:20241027T150000
DTSTAMP:20240926T153332Z
URL:https://breathemiami.us/events/zoo-boo/
SUMMARY:Zoo Boo
DESCRIPTION:Join us at Zoo Miami's Zoo Boo for a spooktacular Halloween ext
 ravaganza\, where families and children aged 12 and under can revel in a w
 ide array of delightful activities. Immerse yourself in the ultimate trick
 -or-treating experience\, engage in costume contests\, meet enchanting cha
 racters\, participate in Halloween craft workshops\, and marvel as our wil
 d animals partake in their unique Halloween festivities. There's no need t
 o worry about the cost\, as Zoo Boo is absolutely free for our cherished Z
 oo members and is also included with the purchase of general admission tic
 kets. It's the perfect destination for a hauntingly good time this Hallowe
 en season!\n\n\nGET TICKETS\n\n
ATTACH;FMTTYPE=image/jpeg:https://breathemiami.us/wp-content/uploads/2023/
 10/zooboo22_icon.jpg
LOCATION:Zoo Miami\,  12400 SW 152nd St\, Miami\, Florida\, FL 33177\, Unit
 ed States
X-APPLE-STRUCTURED-LOCATION;VALUE=URI;X-ADDRESS= 12400 SW 152nd St\, Miami\
 , Florida\, FL 33177\, United States;X-APPLE-RADIUS=100;X-TITLE=Zoo Miami:
 geo:0,0
END:VEVENT
BEGIN:VTIMEZONE
TZID:America/New_York
X-LIC-LOCATION:America/New_York
BEGIN:DAYLIGHT
DTSTART:20240310T030000
TZOFFSETFROM:-0500
TZOFFSETTO:-0400
TZNAME:EDT
END:DAYLIGHT
END:VTIMEZONE
END:VCALENDAR