BEGIN:VCALENDAR
VERSION:2.0
PRODID:-//wp-events-plugin.com//7.2.3.1//EN
TZID:America/New_York
X-WR-TIMEZONE:America/New_York
BEGIN:VEVENT
UID:1273@breathemiami.us
DTSTART;TZID=America/New_York:20250309T103000
DTEND;TZID=America/New_York:20250309T140000
DTSTAMP:20250218T052517Z
URL:https://breathemiami.us/events/zen-retreat-a-matcha-and-clay-experienc
 e/
SUMMARY:Zen Retreat: A Matcha and Clay Experience
DESCRIPTION:Immerse yourself in a transformative day of relaxation\, creati
 vity\, and deep connection within an intimate and welcoming community. Thi
 s exclusive retreat offers a unique blend of mindfulness\, art\, and senso
 ry indulgence\, designed to nourish both body and soul.\nGuests will begin
  their journey with a traditional Japanese tea ceremony led by esteemed we
 llness instructor Mica Luna. Through the mindful preparation and presentat
 ion of ceremonial matcha\, participants will experience a heightened state
  of focus and consciousness\, fostering a profound sense of inner balance.
  This meditative ritual will seamlessly flow into a Reiki-infused meditati
 on\, where the harmonious sounds of Japanese bells and Tibetan singing bow
 ls will guide guests through an immersive energy-healing session\, deepeni
 ng relaxation and awareness.\n\nFollowing this moment of tranquility\, att
 endees will engage in a hands-on ceramics experience led by renowned local
  ceramist Erica Lores. With intentionality and creative expression at the 
 forefront\, participants will sculpt their own matcha tea cup or bowl usin
 g high-quality stoneware clay. Each piece will be fired post-retreat\, tra
 nsforming raw clay into a functional work of art infused with personal mea
 ning and mindfulness.\n\nTo further enrich the experience\, guests will en
 joy delectable offerings\, including artisanal bagels from El Bagel\, refr
 eshing beverages by Kin Euphorics\, delightful sweets crafted by Misha Bak
 es It\, and stunning floral arrangements by Neroli Blume.\n\nEvent Details
 :\n\n 	Date &amp\; Time: Please arrive at 10:30 AM to settle in. Street pa
 rking is available.\n 	Location: MOE Studio\n 	Ticket Includes: Ceremonial
  matcha\, Reiki-guided meditation and sound journey\, expert-led ceramics 
 instruction\, premium clay materials\, glazing and firing of ceramics\, a 
 curated lunch\, and exclusive treats from our sponsors.\n\nCeramic Collect
 ion:\nEach handcrafted ceramic piece will be clear glazed and fired after 
 the retreat. Attendees will receive a notification when their pieces are r
 eady for pickup at MOE Studio within 3-5 weeks.\n\nFor inquiries\, please 
 email hi@ericalores.com or send a direct message to @ericalores.art.\n\nIm
 portant Notes:\n\n 	By purchasing a ticket\, attendees grant permission fo
 r photography and video recording for promotional use.\n 	Due to the natur
 e of ceramics\, there is always a risk of imperfections\, including glaze 
 defects\, breakages\, or cracking during the firing process. As a small bu
 siness\, full refunds cannot be issued for such occurrences.\n 	Cancellati
 on Policy: Guests may request a full refund if cancellations are made at l
 east 48 hours prior to the event.\n\nSpots are limited—secure your place
  today and embark on a journey of mindfulness\, creativity\, and community
 . See you there! ❤️\n\nA Special Thanks to Our Sponsors:\n@elbagel | @
 kineuphorics | @neroliblume | @mishabakesit | @sograte.co\n\nGET TICKETS\n
ATTACH;FMTTYPE=image/jpeg:https://breathemiami.us/wp-content/uploads/2025/
 02/Zen-Retreat-A-Matcha-and-Clay-Experience.avif
CATEGORIES:Wellness Events
LOCATION:MOE Studio\, 301 Northeast 61st Street\, Miami\, Florida\, 33137\,
  FL\, United States
X-APPLE-STRUCTURED-LOCATION;VALUE=URI;X-ADDRESS=301 Northeast 61st Street\,
  Miami\, Florida\, 33137\, FL\, United States;X-APPLE-RADIUS=100;X-TITLE=M
 OE Studio:geo:0,0
END:VEVENT
BEGIN:VTIMEZONE
TZID:America/New_York
X-LIC-LOCATION:America/New_York
BEGIN:DAYLIGHT
DTSTART:20250309T030000
TZOFFSETFROM:-0500
TZOFFSETTO:-0400
TZNAME:EDT
END:DAYLIGHT
END:VTIMEZONE
END:VCALENDAR