BEGIN:VCALENDAR
VERSION:2.0
PRODID:-//wp-events-plugin.com//7.2.3.1//EN
TZID:America/New_York
X-WR-TIMEZONE:America/New_York
BEGIN:VEVENT
UID:1170@breathemiami.us
DTSTART;TZID=America/New_York;VALUE=DATE:20241115
DTEND;TZID=America/New_York;VALUE=DATE:20241116
DTSTAMP:20241023T144349Z
URL:https://breathemiami.us/events/zen-ink-fusion-with-tifftopia-powered-b
 y-iris-tattoo/
SUMMARY:Zen-Ink Fusion with Tifftopia - Powered by Iris Tattoo
DESCRIPTION:Step into your personal transformation at Zen-Ink Fusion\, a un
 ique experience curated by Tifftopia and aLilyKat in the serene outdoor sp
 ace of Iris Tattoo Studio. This event blends creativity\, wellness\, and c
 elebration\, featuring yoga\, live music\, body art\, and a vibrant vendor
  village\, all aimed at creating an unforgettable experience.\n\nWhat's In
 cluded:\n\n 	Yoga + Sound Bath: Enjoy a soul-nourishing yoga session under
  the moonlight\, led by Miami’s own Tifftopia\, followed by a calming so
 und bath that connects body and spirit in harmony.\n 	Beats by Pixi3Kitt3n
  &amp\; Friends: Groove all night to dynamic live music. From high-energy 
 beats to mellow rhythms\, the vibes are kept alive by Pixi3Kitt3n and her 
 friends.\n 	Complimentary Piercing: Express your individuality with a free
  titanium piercing. Choose your piece and get adorned by expert piercers\,
  with optional upgrades to solid gold jewelry. (Restrictions on placement 
 apply: no daith\, oral\, eyebrow\, or tragus piercings.)\n 	Exclusive Flas
 h Tattoos + Free Gift: Dive into self-expression with unique flash tattoos
  available exclusively at the event. Early participants who purchase a fla
 sh tattoo will receive a premium goodie bag filled with products as a gest
 ure of appreciation.\n\nMoonlit Yoga and Sound Bath: Under the moonlit sky
 \, Tifftopia guides attendees through a transformative yoga flow\, helping
  them reconnect with their bodies. After the yoga\, experience a sound bat
 h that melts away tension\, with Pixi3Kitt3n’s live beats enhancing the 
 meditative atmosphere.\n\nComplimentary Piercing: Make your mark with a fr
 ee titanium piercing piece included in your ticket. Skilled artists will a
 ssist you in choosing the perfect accessory to highlight your unique style
 . A selection of solid gold pieces is also available at discounted rates.\
 n\nExclusive Flash Tattoos + Free Gift: Add a personal touch to your eveni
 ng with custom flash tattoos\, crafted specifically for this event. The fi
 rst few guests to purchase a flash tattoo will be treated to a special goo
 die bag\, filled with carefully curated products to elevate their experien
 ce.\n\nThe event also features a variety of local vendors offering food\, 
 drinks\, and artisanal goods\, creating an immersive and enriching atmosph
 ere.\n\nGET TICKETS\n
ATTACH;FMTTYPE=image/jpeg:https://breathemiami.us/wp-content/uploads/2024/
 10/Zen-Ink-Fusion-with-Tifftopia-Powered-by-Iris-Tattoo.jpg
CATEGORIES:Wellness Events
LOCATION:Iris Tattoo & Piercings Miami\, 133 Northwest 26th Street Miami\, 
 Miami\, Florida\, 33127\,  FL \, United States
X-APPLE-STRUCTURED-LOCATION;VALUE=URI;X-ADDRESS=133 Northwest 26th Street M
 iami\, Miami\, Florida\, 33127\,  FL \, United States;X-APPLE-RADIUS=100;X
 -TITLE=Iris Tattoo & Piercings Miami:geo:0,0
END:VEVENT
BEGIN:VTIMEZONE
TZID:America/New_York
X-LIC-LOCATION:America/New_York
BEGIN:STANDARD
DTSTART:20241103T010000
TZOFFSETFROM:-0400
TZOFFSETTO:-0500
TZNAME:EST
END:STANDARD
END:VTIMEZONE
END:VCALENDAR