BEGIN:VCALENDAR
VERSION:2.0
PRODID:-//wp-events-plugin.com//7.2.3.1//EN
TZID:America/New_York
X-WR-TIMEZONE:America/New_York
BEGIN:VEVENT
UID:750@breathemiami.us
DTSTART;TZID=America/New_York:20240920T180000
DTEND;TZID=America/New_York:20240920T230000
DTSTAMP:20240825T064133Z
URL:https://breathemiami.us/events/zafem-take-over-at-sounds-of-little-hai
 ti/
SUMMARY:Zafem Take Over at Sounds of Little Haiti
DESCRIPTION:Join us for a night of unforgettable live music and vibrant ent
 ertainment at the Zafem Takeover event\, hosted at Sounds of Little Haiti.
  This special evening features ZAFEM\, one of the most sought-after bands 
 in the Haitian Music Industry (HMI)\, renowned for their electrifying perf
 ormances and chart-topping hits that have captured global attention.\n\nWh
 ether you’re a dedicated fan or just discovering their music\, this even
 t offers a unique chance to experience the buzz firsthand. Set in the live
 ly and culturally rich neighborhood of Little Haiti\, this event promises 
 to be a standout experience.\n\nSounds of Little Haiti (SOHL)\, known for 
 their monthly family-friendly cultural events\, brings the community toget
 her every third Friday of the month. SOHL is celebrated for its immersive 
 cultural experiences\, offering a dynamic space where the Haitian diaspora
 \, local Miami residents\, and tourists alike can come together to honor a
 nd enjoy authentic Haitian culture and its vibrant influence on the local 
 community.\n\nDon’t miss this opportunity to be part of a truly special 
 evening celebrating music\, culture\, and community in the heart of Little
  Haiti!\n\nGET TICKETS\n
ATTACH;FMTTYPE=image/jpeg:https://breathemiami.us/wp-content/uploads/2024/
 08/Zafem-Take-Over-at-Sounds-of-Little-Haiti.jpg
CATEGORIES:Mindfulness Events,Things To Do,Wellness Events
LOCATION:Little Haiti Cultural Complex\, 212 Northeast 59th Terrace Miami\,
  Miami\, Florida\, 33137\, FL\, United States
X-APPLE-STRUCTURED-LOCATION;VALUE=URI;X-ADDRESS=212 Northeast 59th Terrace 
 Miami\, Miami\, Florida\, 33137\, FL\, United States;X-APPLE-RADIUS=100;X-
 TITLE=Little Haiti Cultural Complex:geo:0,0
END:VEVENT
BEGIN:VTIMEZONE
TZID:America/New_York
X-LIC-LOCATION:America/New_York
BEGIN:DAYLIGHT
DTSTART:20240310T030000
TZOFFSETFROM:-0500
TZOFFSETTO:-0400
TZNAME:EDT
END:DAYLIGHT
END:VTIMEZONE
END:VCALENDAR