BEGIN:VCALENDAR
VERSION:2.0
PRODID:-//wp-events-plugin.com//7.2.3.1//EN
TZID:America/New_York
X-WR-TIMEZONE:America/New_York
BEGIN:VEVENT
UID:892@breathemiami.us
DTSTART;TZID=America/New_York:20240929T110000
DTEND;TZID=America/New_York:20240929T120000
DTSTAMP:20240917T100336Z
URL:https://breathemiami.us/events/yomu-yoga-and-music-for-kids-with-karol
 /
SUMMARY:YOMU - Yoga and Music for Kids with Karol
DESCRIPTION:Step into a world of wonder with Karol’s YOMU class\, where y
 oga and music come together for a magical hour of fun and mindfulness for 
 children. Hosted at The Peacemaker\, this engaging session offers a unique
  blend of playful activities\, soothing yoga poses\, and joyful music\, al
 l designed to inspire and delight young minds.\n\nKarol\, our beloved inst
 ructor\, will lead the kids on an enchanting journey of self-discovery and
  creative expression. Through guided breathing exercises\, expressive move
 ment\, and the rhythm of lively tunes\, children will explore new ways to 
 connect with themselves and their surroundings. The class aims to nurture 
 mindfulness\, emotional well-being\, and a love for physical activity\, al
 l while encouraging imaginative play.\n\nThis session is perfect for helpi
 ng children unwind\, find their inner calm\, and enjoy a supportive and in
 teractive environment. Bring your little ones to The Peacemaker for a harm
 onious experience where yoga and music blend seamlessly to create moments 
 of joy and serenity.\n\nGET TICKETS\n
ATTACH;FMTTYPE=image/jpeg:https://breathemiami.us/wp-content/uploads/2024/
 09/YOMU-Yoga-and-Music-for-Kids-with-Karol.jpg
CATEGORIES:Things To Do,Wellness Events
LOCATION:The Peacemaker\, 8100 Southwest 81st Drive #suite 275 \, Miami\, F
 lorida\, 33143\, FL\, United States
X-APPLE-STRUCTURED-LOCATION;VALUE=URI;X-ADDRESS=8100 Southwest 81st Drive #
 suite 275 \, Miami\, Florida\, 33143\, FL\, United States;X-APPLE-RADIUS=1
 00;X-TITLE=The Peacemaker:geo:0,0
END:VEVENT
BEGIN:VTIMEZONE
TZID:America/New_York
X-LIC-LOCATION:America/New_York
BEGIN:DAYLIGHT
DTSTART:20240310T030000
TZOFFSETFROM:-0500
TZOFFSETTO:-0400
TZNAME:EDT
END:DAYLIGHT
END:VTIMEZONE
END:VCALENDAR