BEGIN:VCALENDAR
VERSION:2.0
PRODID:-//wp-events-plugin.com//7.2.3.1//EN
TZID:America/New_York
X-WR-TIMEZONE:America/New_York
BEGIN:VEVENT
UID:1143@breathemiami.us
DTSTART;TZID=America/New_York:20241124T093000
DTEND;TZID=America/New_York:20241124T130000
DTSTAMP:20241023T082353Z
URL:https://breathemiami.us/events/yogilates-with-yogithot/
SUMMARY:Yogilates with YogiThot
DESCRIPTION:Yogilates with YogiThot on a Boat\nSunday\, November 24th\, 202
 4\, at 9:30 AM\nJoin YogiThot for a special edition of Yogilates on the wa
 ter! This unique event takes place aboard The Shorely\, a permanently stat
 ioned ferry turned entertainment venue at Marina Village\, offering a blen
 d of fitness\, fun\, and relaxation.\n\nYour ticket includes a 60-minute Y
 ogilates class led by the renowned YogiThot\, combining the strengthening 
 power of Pilates with the flexibility and mindfulness of yoga. Expect a fu
 ll-body workout designed to tone your arms\, legs\, and back while improvi
 ng flexibility and mobility through yoga-inspired movements. This class is
  open to all fitness levels\, providing a holistic approach that will leav
 e you feeling refreshed\, balanced\, and energized.\n\nEvent Schedule:\n\n
  	9:30 AM: Arrive early to check out local vendors\, including Maboh The L
 abel selling stylish bikinis\, and enjoy complimentary physical therapy ev
 aluations by Force Physical Therapy.\n 	10:00 AM: Class begins promptly. B
 e sure to bring your own mat and prepare for a spicy Yogilates flow that w
 ill challenge and inspire you.\n 	11:00 AM: After class\, unwind at the ba
 r with refreshing pints\, mimosas\, and a wide selection of food from loca
 l vendors. It’s the perfect way to relax\, connect with like-minded indi
 viduals\, and enjoy the vibrant energy of the day.\n\nVanessa\, the master
 mind behind YogiThot\, is known for creating a welcoming\, introspective e
 nvironment where students feel seen\, accepted\, and encouraged to explore
  their mind-body connection. With 500 hours of yoga teacher training\, Van
 essa expertly guides participants through each posture\, ensuring proper a
 lignment and encouraging everyone to tap into their inner strength.\n\nThi
 s is more than just a workout\; it’s an opportunity to build community\,
  embrace personal growth\, and even indulge in some post-class fun with fo
 od and drinks. Whether you're a seasoned yogi or new to the practice\, Yog
 iThot’s class promises to be an unforgettable experience filled with goo
 d vibes and A-Ha moments!\n\nLocation:\nThe Shorely\, Marina Village (Perm
 anently stationed ferry)\nTime:\nArrive by 9:30 AM | Class starts at 10:00
  AM sharp!\n\nReserve your spot today and prepare for a Sunday filled with
  movement\, mindfulness\, and community. See you on the boat!\n\nGET TICKE
 TS\n
ATTACH;FMTTYPE=image/jpeg:https://breathemiami.us/wp-content/uploads/2024/
 10/Yogilates-with-YogiThot.jpg
CATEGORIES:Yoga Events
LOCATION:Marina Village\, 849 Seabreeze Boulevard Fort Lauderdale\, Miami\,
  Florida\, 33133\, FL\, United States
X-APPLE-STRUCTURED-LOCATION;VALUE=URI;X-ADDRESS=849 Seabreeze Boulevard For
 t Lauderdale\, Miami\, Florida\, 33133\, FL\, United States;X-APPLE-RADIUS
 =100;X-TITLE=Marina Village:geo:0,0
END:VEVENT
BEGIN:VTIMEZONE
TZID:America/New_York
X-LIC-LOCATION:America/New_York
BEGIN:STANDARD
DTSTART:20241103T010000
TZOFFSETFROM:-0400
TZOFFSETTO:-0500
TZNAME:EST
END:STANDARD
END:VTIMEZONE
END:VCALENDAR