BEGIN:VCALENDAR
VERSION:2.0
PRODID:-//wp-events-plugin.com//7.2.3.1//EN
TZID:America/New_York
X-WR-TIMEZONE:America/New_York
BEGIN:VEVENT
UID:1337@breathemiami.us
DTSTART;TZID=America/New_York:20251118T190000
DTEND;TZID=America/New_York:20251118T203000
DTSTAMP:20251007T154908Z
URL:https://breathemiami.us/events/yogilates-silent-disco/
SUMMARY:Yogilates & Silent Disco
DESCRIPTION:A Yogilates experience that blends yoga\, Pilates\, and immersi
 ve visuals for a workout that tones the body and uplifts the mind.\nWe’r
 e not just moving\, we’re sculpting. Join me for 45 minutes of Pilates
  Sculpt\, strength\, sweat\, and a serious burn that leaves you feeling u
 nstoppable. Then we’ll finish with a 15-minute yoga stretching session
  to reset your mind and leave you recharged.\n\nThis 60-minute class is d
 esigned to sculpt\, stretch\, and strengthen through breath and mindful mo
 vement\, all set inside the visually stunning ARTXSPACE.\n\n🎟 Mats prov
 ided — just bring your glow and good energy. All levels welcome.\n\nCome
  solo or with friends — we’ll meet you on the mat.\n\n&nbsp\;\n✨ VR
  Meditation Experience ✨\nAdd-On ($25) | Starts at 8:30 PM \n\n🌊 Fe
 aturing AQUAZUL VR by Alissa Christine\n🎭 Commissioned by The Adrienne 
 Arsht Center\n🌌 The Experience\nA 30-min ocean-inspired VR meditation 
 + sound journey to reset your mind and restore balance.\n\n🌀 Hand-paint
 ed 3D worlds\n💦 Breathwork\, grounding + sound bath\n💙 Benefits\n
 • Reduce stress + quiet the mind\n• Support sleep + focus\n• Promote
  inner peace + mindfulness
ATTACH;FMTTYPE=image/jpeg:https://breathemiami.us/wp-content/uploads/2025/
 09/poeudps2ou8tfoiaxsc5.jpg
CATEGORIES:Mindfulness Events,Sports &amp; Fitness Events,Things To
 Do,Wellness Events,Yoga Events
LOCATION:ARTXSPACE\, 301 NW 28th St\, Miami\, Florida\, 33127\, FL\, United
  States
X-APPLE-STRUCTURED-LOCATION;VALUE=URI;X-ADDRESS=301 NW 28th St\, Miami\, Fl
 orida\, 33127\, FL\, United States;X-APPLE-RADIUS=100;X-TITLE=ARTXSPACE:ge
 o:0,0
END:VEVENT
BEGIN:VTIMEZONE
TZID:America/New_York
X-LIC-LOCATION:America/New_York
BEGIN:STANDARD
DTSTART:20251102T010000
TZOFFSETFROM:-0400
TZOFFSETTO:-0500
TZNAME:EST
END:STANDARD
END:VTIMEZONE
END:VCALENDAR