BEGIN:VCALENDAR
VERSION:2.0
PRODID:-//wp-events-plugin.com//7.2.3.1//EN
TZID:America/New_York
X-WR-TIMEZONE:America/New_York
BEGIN:VEVENT
UID:1320@breathemiami.us
DTSTART:20251007T230000Z
DTEND:20251008T003000Z
DTSTAMP:20251007T153421Z
URL:https://breathemiami.us/events/yogilates-silent-disco-w-andreina-carvo
 -2/
SUMMARY:Yogilates & Silent Disco w/ Andreina Carvo
DESCRIPTION:A Yogilates experience that blends yoga\, Pilates\, and immersi
 ve visuals for a workout that tones the body and uplifts the mind.\n&nbsp\
 ;\n\nWe’re not just moving\, we’re sculpting. Join me for 45 minutes
  of Pilates Sculpt\, strength\, sweat\, and a serious burn that leaves yo
 u feeling unstoppable. Then we’ll finish with a 15-minute yoga stretchi
 ng session to reset your mind and leave you recharged.\n\nThis 60-minute 
 class is designed to sculpt\, stretch\, and strengthen through breath and 
 mindful movement\, all set inside the visually stunning ARTXSPACE.\n\n🎟
  Mats provided — just bring your glow and good energy. All levels welcom
 e.\nCome solo or with friends — we’ll meet you on the mat.\n&nbsp\;\n\
 n✨ VR Meditation Experience ✨\nAdd-On ($25) | Starts at 8:30 PM \n\
 n🌊 Featuring AQUAZUL VR by Alissa Christine\n🎭 Commissioned by The A
 drienne Arsht Center\n\n&nbsp\;\n\n🌌 The Experience\nA 30-min ocean-in
 spired VR meditation + sound journey to reset your mind and restore balanc
 e.\n\n🌀 Hand-painted 3D worlds\n💦 Breathwork\, grounding + sound bat
 h\n\n&nbsp\;\n\n💙 Benefits\n• Reduce stress + quiet the mind\n• Su
 pport sleep + focus\n• Promote inner peace + mindfulness\n\n&nbsp\;
ATTACH;FMTTYPE=image/jpeg:https://breathemiami.us/wp-content/uploads/2025/
 09/poeudps2ou8tfoiaxsc5.jpg
CATEGORIES:Sports &amp; Fitness Events,Things To Do,Wellness Events,Yoga
 Events
LOCATION:ARTXSPACE\, 301 NW 28th St\, Miami\, Florida\, 33127\, FL\, United
  States
X-APPLE-STRUCTURED-LOCATION;VALUE=URI;X-ADDRESS=301 NW 28th St\, Miami\, Fl
 orida\, 33127\, FL\, United States;X-APPLE-RADIUS=100;X-TITLE=ARTXSPACE:ge
 o:0,0
END:VEVENT
END:VCALENDAR