BEGIN:VCALENDAR
VERSION:2.0
PRODID:-//wp-events-plugin.com//7.2.3.1//EN
TZID:America/New_York
X-WR-TIMEZONE:America/New_York
BEGIN:VEVENT
UID:355@breathemiami.us
DTSTART;TZID=America/New_York:20240313T180000
DTEND;TZID=America/New_York:20240313T190000
DTSTAMP:20240303T190933Z
URL:https://breathemiami.us/events/yogic-movement-and-meditation/
SUMMARY:Wellness Program Yogic Movement and Meditation
DESCRIPTION:If the event is fully booked\, don't worry! Join the waitlist a
 nd we'll notify you if a spot becomes available before the event.\n\nDisco
 ver a journey of yogic movement and meditation with Stardust. This transfo
 rmative class is designed to enhance flexibility\, reduce stress\, and cul
 tivate mindfulness. Suitable for all levels\, please bring your mat.\n\nMe
 et your instructor\, Stardust\, a dedicated practitioner of yoga for over 
 15 years. With specialized training in 12-step Recovery Yoga\, Sound Heali
 ng\, and Mindfulness\, Stardust brings a unique approach to wellness.\n\nE
 xperience the benefits of yogic movement and meditation at this event. Boo
 k your spot today!\n\n\n\nGET FREE TICKETS\n\n
ATTACH;FMTTYPE=image/jpeg:https://breathemiami.us/wp-content/uploads/2024/
 03/https___cdn.evbuc_.com_images_666370419_222083688363_1_original.jpg
CATEGORIES:Wellness Events,Yoga Events
LOCATION:The Pride Center at Equality Park\, 2040 North Dixie Highway Wilto
 n Manors\, Miami\, Florida\, 33305\, United States
X-APPLE-STRUCTURED-LOCATION;VALUE=URI;X-ADDRESS=2040 North Dixie Highway Wi
 lton Manors\, Miami\, Florida\, 33305\, United States;X-APPLE-RADIUS=100;X
 -TITLE=The Pride Center at Equality Park:geo:0,0
END:VEVENT
BEGIN:VTIMEZONE
TZID:America/New_York
X-LIC-LOCATION:America/New_York
BEGIN:DAYLIGHT
DTSTART:20240310T030000
TZOFFSETFROM:-0500
TZOFFSETTO:-0400
TZNAME:EDT
END:DAYLIGHT
END:VTIMEZONE
END:VCALENDAR