BEGIN:VCALENDAR
VERSION:2.0
PRODID:-//wp-events-plugin.com//7.2.3.1//EN
TZID:America/New_York
X-WR-TIMEZONE:America/New_York
BEGIN:VEVENT
UID:1325@breathemiami.us
DTSTART;TZID=America/New_York:20251018T100000
DTEND;TZID=America/New_York:20251018T113000
DTSTAMP:20251007T154158Z
URL:https://breathemiami.us/events/yoga-w-allegra-paris/
SUMMARY:Yoga w/ Allegra Paris
DESCRIPTION:Immerse yourself in a full-body session that combines bodyweigh
 t exercises\, guided flow\, and immersive light and sound. Designed to ene
 rgize and refresh\, you’ll strengthen\, stretch\, and connect.\n&nbsp\;\
 n\nA transformative Saturday mornings wellness series where sound\, moveme
 nt\, and community collide.\n\nStep into a fully immersive wellness experi
 ence at ARTXSPACE in Wynwood — combining movement\, breath\, sound\, a
 nd art.\n\nComplimentary mats provided — just bring your glow and good e
 nergy\n\n&nbsp\;\nRecommended for ages 12+. All events are beginner-friend
 ly and solo-attendee welcoming.
ATTACH;FMTTYPE=image/jpeg:https://breathemiami.us/wp-content/uploads/2025/
 09/th6npduncrzc006kuigd.png
CATEGORIES:Mindfulness Events,Sports &amp; Fitness Events,Things To
 Do,Wellness Events,Yoga Events
LOCATION:ARTXSPACE\, 301 NW 28th St\, Miami\, 33137\, FL\, United States
X-APPLE-STRUCTURED-LOCATION;VALUE=URI;X-ADDRESS=301 NW 28th St\, Miami\, 33
 137\, FL\, United States;X-APPLE-RADIUS=100;X-TITLE=ARTXSPACE:geo:0,0
END:VEVENT
BEGIN:VTIMEZONE
TZID:America/New_York
X-LIC-LOCATION:America/New_York
BEGIN:DAYLIGHT
DTSTART:20250309T030000
TZOFFSETFROM:-0500
TZOFFSETTO:-0400
TZNAME:EDT
END:DAYLIGHT
END:VTIMEZONE
END:VCALENDAR