BEGIN:VCALENDAR
VERSION:2.0
PRODID:-//wp-events-plugin.com//7.2.3.1//EN
TZID:America/New_York
X-WR-TIMEZONE:America/New_York
BEGIN:VEVENT
UID:939@breathemiami.us
DTSTART;TZID=America/New_York:20241006T100000
DTEND;TZID=America/New_York:20241006T190000
DTSTAMP:20240930T074313Z
URL:https://breathemiami.us/events/yoga-soul-sunday-day-retreat/
SUMMARY:Yoga Soul Sunday Day Retreat
DESCRIPTION:Immerse yourself in a day of tranquility and rejuvenation at th
 e Yoga Soul Day Retreat\, a holistic experience designed to nourish the mi
 nd\, body\, and spirit. This retreat offers a unique opportunity to dedica
 te a full day to self-care and wellness\, surrounded by the serene beauty 
 of Miami Beach.\n\nThe day begins at 10 AM for those opting for the Full D
 ay Spa Pass\, allowing guests to indulge in the award-winning spa faciliti
 es and unwind in a luxurious environment. This early start sets the tone f
 or a day devoted to personal growth and relaxation.\n\nAfter a nourishing 
 lunch break\, participants will gather at the Ocean Room Studio at 1 PM fo
 r a series of healing workshops. Upon arrival\, guests will be greeted wit
 h a refreshing mocktail\, inviting them to savor the stunning ocean views 
 while they prepare for the transformative activities ahead.\n\nFor those w
 ho have purchased tickets specifically for the workshop\, the experience k
 icks off with a guided yoga session led by the skilled instructor Jeanne. 
 In this session\, attendees will be guided through poses that enhance flex
 ibility\, build strength\, and foster inner peace. The combination of brea
 thwork and movement will help participants connect deeply with their bodie
 s and minds.\n\nFollowing the yoga practice\, attendees will engage in a h
 ypnosis meditation session with Joanne\, a certified hypnotherapist. This 
 calming practice encourages participants to let go of stress and connect w
 ith their higher selves. As Joanne guides them\, they will experience a pr
 ofound release\, allowing the burdens of daily life to melt away\, paving 
 the way for deep relaxation and mindfulness.\n\nIn the afternoon\, guests 
 will be enveloped by the transformative power of Sound Healing. The soothi
 ng vibrations from crystal bowls will harmonize the participants’ energy
 \, restoring balance within their bodies. Jeanne will channel Reiki univer
 sal life force energy\, further supporting the natural healing processes o
 f the body\, dissolving tension\, and facilitating profound healing on a c
 ellular level.\n\nThe retreat also features a community group interactive 
 circle\, led by Jeanne and Joanne\, focusing on channeling and connecting 
 with participants' highest selves. This circle emphasizes inner healing\, 
 meaning\, and purpose\, enhanced by rare quantum healing technology.\n\nFo
 r those who have chosen the Full Day Retreat option\, the day doesn’t en
 d after the workshops. Attendees can enjoy the pool\, beach\, and spa faci
 lities until 7 PM\, ensuring a full day of relaxation and self-care.\n\nTh
 e Yoga Soul Sunday Day Retreat is more than just a day of yoga\; it’s a 
 journey toward self-discovery\, connection\, and holistic healing. Don’t
  miss the chance to embrace this enriching experience and awaken a deeper 
 sense of well-being within yourself. Reserve your spot today!\n\nGET TICKE
 TS\n
ATTACH;FMTTYPE=image/jpeg:https://breathemiami.us/wp-content/uploads/2024/
 09/Yoga-Soul-Sunday-Day-Retreat.jpg
CATEGORIES:Things To Do,Wellness Events,Yoga Events
LOCATION:Carillon Miami Wellness Resort\, 6801 Collins Avenue Miami Beach\,
  Miami\, Florida\,  33141\, FL\, United States
X-APPLE-STRUCTURED-LOCATION;VALUE=URI;X-ADDRESS=6801 Collins Avenue Miami B
 each\, Miami\, Florida\,  33141\, FL\, United States;X-APPLE-RADIUS=100;X-
 TITLE=Carillon Miami Wellness Resort:geo:0,0
END:VEVENT
BEGIN:VTIMEZONE
TZID:America/New_York
X-LIC-LOCATION:America/New_York
BEGIN:DAYLIGHT
DTSTART:20240310T030000
TZOFFSETFROM:-0500
TZOFFSETTO:-0400
TZNAME:EDT
END:DAYLIGHT
END:VTIMEZONE
END:VCALENDAR