BEGIN:VCALENDAR
VERSION:2.0
PRODID:-//wp-events-plugin.com//7.2.3.1//EN
TZID:America/New_York
X-WR-TIMEZONE:America/New_York
BEGIN:VEVENT
UID:1153@breathemiami.us
DTSTART;TZID=America/New_York:20241117T100000
DTEND;TZID=America/New_York:20241117T190000
DTSTAMP:20241023T101359Z
URL:https://breathemiami.us/events/yoga-soul-sunday-day-retreat-monthly-se
 ries/
SUMMARY:Yoga Soul Sunday Day Retreat monthly series
DESCRIPTION:Immerse yourself in serenity with the Yoga Soul Sunday Day Retr
 eat\, a transformative monthly experience designed to nourish your mind\, 
 body\, and spirit. Set against the stunning backdrop of Miami Beach\, this
  day retreat offers an opportunity for deep relaxation\, rejuvenation\, an
 d personal growth.\n\nWhat to Expect:\n\nOption to Upgrade to Spa Day:\nBe
 gin your retreat with an upgrade to a full spa day at the award-winning Ca
 rillon Wellness Resort. Available for Premium ticket holders\, the spa pas
 s allows you to indulge in luxury from 10 AM\, enjoying world-class facili
 ties including the pool\, beach\, and exclusive wellness amenities.\n\nHea
 ling Workshops (1 PM - 3:30 PM):\nFor all participants\, the core of the r
 etreat begins at 1 PM in the Ocean Room Studio. Here\, you'll be greeted w
 ith a refreshing mocktail and stunning ocean views\, setting the stage for
  an afternoon filled with healing and renewal.\n\n 	Slow Flow Yoga &amp\; 
 Breathwork Session: Led by experienced instructor Jeanne\, this gentle yog
 a session focuses on enhancing flexibility\, strength\, and inner peace th
 rough mindful movement and conscious breathing.\n 	Hypnosis Meditation: Gu
 ided by Joanne\, a skilled hypnotherapist\, you'll embark on a deep journe
 y into hypnosis meditation\, allowing you to release stress\, connect with
  your higher self\, and experience profound inner calm.\n 	Sound Healing &
 amp\; Reiki: Immerse yourself in the powerful vibrations of crystal bowls 
 during a sound healing session. As the soothing sounds wash over you\, Jea
 nne will channel Reiki energy to restore balance and support your body's n
 atural healing processes at a cellular level\, leaving you feeling refresh
 ed and harmonized.\n 	Intuitive Journaling &amp\; Quantum Healing Circle: 
 Experience an interactive community healing circle where you'll connect wi
 th fellow participants in a meaningful way. Guided by Jeanne and Joanne\, 
 this circle utilizes quantum healing techniques and journaling prompts to 
 help you access higher levels of consciousness and personal insight.\n 	Be
 ach Closing Circle: End the day with a community closing circle on the bea
 ch\, where you'll reflect\, share\, and connect in a serene\, social envir
 onment.\n\nFull Day Spa Experience:\nFor those opting for the full day ret
 reat\, enjoy access to the Carillon Wellness Resort's spa facilities\, poo
 l\, and beach until 7 PM\, allowing for extended relaxation and a deeper s
 ense of rejuvenation.\n\nEvent Details: 📍 Location: Carillon Wellness R
 esort\, Miami Beach\n🕒 Full Spa Day Start Time: 10 AM (Premium ticket h
 olders)\n🕑 Workshops Start: 1 PM - 3:30 PM (Standard ticket holders)\n
 💲 Pricing: Full Day Spa &amp\; Workshop ()\,WorkshopOnly()\, Workshop O
 nly ()\,WorkshopOnly()\n\nEmbrace tranquility\, connect with like-minded i
 ndividuals\, and leave feeling renewed and balanced. Whether you opt for t
 he full day experience or join us for the workshops\, this retreat offers 
 a comprehensive path to deep healing and inner transformation. Don't miss 
 out on this soul-enriching journey.\n\nGET TICKETS\n
ATTACH;FMTTYPE=image/jpeg:https://breathemiami.us/wp-content/uploads/2024/
 10/Yoga-Soul-Sunday-Day-Retreat-monthly-series.jpg
CATEGORIES:Yoga Events
LOCATION:Carillon Miami Wellness Resort\, 6801 Collins Avenue Miami Beach\,
 \, Miami Beach\,\, United States\,  33141\, United States
X-APPLE-STRUCTURED-LOCATION;VALUE=URI;X-ADDRESS=6801 Collins Avenue Miami B
 each\,\, Miami Beach\,\, United States\,  33141\, United States;X-APPLE-RA
 DIUS=100;X-TITLE=Carillon Miami Wellness Resort:geo:0,0
END:VEVENT
BEGIN:VTIMEZONE
TZID:America/New_York
X-LIC-LOCATION:America/New_York
BEGIN:STANDARD
DTSTART:20241103T010000
TZOFFSETFROM:-0400
TZOFFSETTO:-0500
TZNAME:EST
END:STANDARD
END:VTIMEZONE
END:VCALENDAR