BEGIN:VCALENDAR
VERSION:2.0
PRODID:-//wp-events-plugin.com//7.2.3.1//EN
TZID:America/New_York
X-WR-TIMEZONE:America/New_York
BEGIN:VEVENT
UID:994@breathemiami.us
DTSTART;TZID=America/New_York:20241007T180000
DTEND;TZID=America/New_York:20241007T200000
DTSTAMP:20241003T180358Z
URL:https://breathemiami.us/events/yoga-shalvah-2/
SUMMARY:Yoga Shalvah
DESCRIPTION:Join the community for Yoga Shalvah\, a heartfelt gathering ded
 icated to celebrating life and honoring those impacted by the tragic event
 s of October 7th. This event serves as a beacon of hope and healing\, unit
 ing individuals in the pursuit of light and resilience.\n\nParticipants wi
 ll engage in a rejuvenating session filled with yoga\, movement\, and medi
 tation\, all designed to foster a sense of peace and connection. This uniq
 ue experience will not only provide an opportunity for personal reflection
  and wellness but will also incorporate joyful elements like the Horah\, a
  traditional dance that symbolizes unity and celebration.\n\nThe event aim
 s to raise funds to support those affected by the October 7th attacks\, in
 cluding the residents of Kibbutz Ein Shemer\, who are in need of our compa
 ssion and assistance during these challenging times.\n\nAs the community c
 omes together\, the collective energy of love and support will shine brigh
 tly\, illuminating the path toward healing and recovery. This gathering is
  not just about yoga\; it is about creating a space for individuals to con
 nect\, uplift one another\, and bring forth positivity in the face of adve
 rsity.\n\nMark your calendar and join this meaningful event\, where every 
 breath taken and every movement made will contribute to a greater cause. L
 et’s come together\, honor those impacted\, and celebrate the resilience
  of the human spirit!\n\nGET TICKETS\n
ATTACH;FMTTYPE=image/jpeg:https://breathemiami.us/wp-content/uploads/2024/
 10/Yoga-Shalvah-1.jpg
CATEGORIES:Things To Do,Wellness Events,Yoga Events
LOCATION:Ahana Yoga\, 43 NE 38 st Miami\, Miami\, Florida\, 33137\, FL\, Un
 ited States
X-APPLE-STRUCTURED-LOCATION;VALUE=URI;X-ADDRESS=43 NE 38 st Miami\, Miami\,
  Florida\, 33137\, FL\, United States;X-APPLE-RADIUS=100;X-TITLE=Ahana Yog
 a:geo:0,0
END:VEVENT
BEGIN:VTIMEZONE
TZID:America/New_York
X-LIC-LOCATION:America/New_York
BEGIN:DAYLIGHT
DTSTART:20240310T030000
TZOFFSETFROM:-0500
TZOFFSETTO:-0400
TZNAME:EDT
END:DAYLIGHT
END:VTIMEZONE
END:VCALENDAR