BEGIN:VCALENDAR
VERSION:2.0
PRODID:-//wp-events-plugin.com//7.2.3.1//EN
TZID:America/New_York
X-WR-TIMEZONE:America/New_York
BEGIN:VEVENT
UID:1258@breathemiami.us
DTSTART;TZID=America/New_York:20250225T080000
DTEND;TZID=America/New_York:20250225T090000
DTSTAMP:20250212T175501Z
URL:https://breathemiami.us/events/yoga-on-the-beach-in-south-beach-3/
SUMMARY:Yoga on the beach in South Beach
DESCRIPTION:Embrace a holistic journey of self-discovery and inner peace wi
 th Yoga on the Beach in South Beach\, led by an experienced instructor ded
 icated to guiding students through both physical and spiritual growth. Wit
 h a deep commitment to mindfulness\, philosophy\, and transformation\, thi
 s practice offers an opportunity to relax\, heal\, and evolve.\nThe class 
 is designed to empower practitioners of all levels\, from beginners to sea
 soned yogis\, through mindful sequences that focus on alignment\, breath\,
  and movement. By offering variations for every skill level\, participants
  are encouraged to deepen their practice at their own pace\, allowing for 
 profound personal growth and connection to the body.\nClass Details:The ga
 thering spot is located at the iconic South Beach\, near the 5th Street Li
 feguard Tower\, just off Ocean Drive. This stunning location\, where the t
 ropical ocean meets world-renowned sand\, offers a breathtaking backdrop o
 f lush landscapes and the charming Art Deco architecture of Miami. The ser
 ene ambiance makes it the perfect environment for a calming and rejuvenati
 ng practice.\nThe session concludes with a peaceful resting pose\, followe
 d by an uplifting quote of the day\, leaving participants not only physica
 lly relaxed but also mentally and spiritually fulfilled. This class is an 
 excellent way to connect with the community while enhancing one’s overal
 l sense of well-being. Whether you’re looking for relaxation or transfor
 mation\, this beach yoga class offers an experience that will leave you fe
 eling more balanced and centered.\nImportant Notes:\n\n\n 	Bring drinking 
 water to stay hydrated throughout your practice.\n 	A beach towel is recom
 mended for your practice\, as it offers better comfort and stability on th
 e sand than a traditional yoga mat.\n\nJoin us for a rejuvenating and rewa
 rding experience that blends mindfulness\, movement\, and relaxation in th
 e most beautiful setting Miami has to offer.\n\n\nGET TICKETS\n
ATTACH;FMTTYPE=image/jpeg:https://breathemiami.us/wp-content/uploads/2025/
 02/Yoga-on-the-beach-in-South-Beach.jpeg
CATEGORIES:Yoga Events
LOCATION:Actual beach near 5th Street Lifeguard Stand (beach access paralle
 l to 5th Street & Ocean Drive). The lifeguard tower in blue & yellow has s
 ignage "5 ST" on the back of it.\, 5th St. Lifeguard Tower beach access pa
 rallel to 5th Street &amp\; Ocean Drive\, Miami Beach\, FL\, 33139\, FL\, 
 United States
X-APPLE-STRUCTURED-LOCATION;VALUE=URI;X-ADDRESS=5th St. Lifeguard Tower bea
 ch access parallel to 5th Street & Ocean Drive\, Miami Beach\, FL\, 33139\
 , FL\, United States;X-APPLE-RADIUS=100;X-TITLE=Actual beach near 5th Stre
 et Lifeguard Stand (beach access parallel to 5th Street & Ocean Drive). Th
 e lifeguard tower in blue & yellow has signage \"5 ST\" on the back of it.
 :geo:0,0
END:VEVENT
BEGIN:VTIMEZONE
TZID:America/New_York
X-LIC-LOCATION:America/New_York
BEGIN:STANDARD
DTSTART:20241103T010000
TZOFFSETFROM:-0400
TZOFFSETTO:-0500
TZNAME:EST
END:STANDARD
END:VTIMEZONE
END:VCALENDAR