BEGIN:VCALENDAR
VERSION:2.0
PRODID:-//wp-events-plugin.com//7.2.3.1//EN
TZID:America/New_York
X-WR-TIMEZONE:America/New_York
BEGIN:VEVENT
UID:1091@breathemiami.us
DTSTART;TZID=America/New_York:20241103T100000
DTEND;TZID=America/New_York:20241103T130000
DTSTAMP:20241015T133904Z
URL:https://breathemiami.us/events/yoga-on-tap-tripping-animals/
SUMMARY:Yoga on Tap @ Tripping Animals
DESCRIPTION:Get ready for an energizing and community-centered morning that
  blends wellness\, creativity\, and the unique atmosphere of craft beer cu
 lture at Tripping Animals Brewing. Yoga on Tap is an event designed for al
 l—whether you’re a seasoned yogi or a beer enthusiast looking to try s
 omething new. This experience fuses mindful movement with fun and relaxati
 on\, creating a perfect balance between fitness and social connection.\nEv
 ent Highlights:\n\n 	All-Levels Yoga Class + Sound Bath\n 	Beer or Non-Alc
 oholic Drink Option (for the first 50 ticket holders)\n 	Coaster Painting 
 (optional add-on)\n 	Discounted Food &amp\; Beverages\n 	Local Vendor Vill
 age\n 	Live DJ Performances\n\nYoga + Sound Bath\nStart your morning with 
 an invigorating all-levels yoga session led by Miami's very own Andrea Lop
 ez\, who will guide participants through a flow that is suitable for begin
 ners and experienced yogis alike. Afterward\, unwind with a calming sound 
 bath led by aLilyKat\, designed to help you relax deeply\, focus on the pr
 esent moment\, and recharge your mind and body.\nCraft Beer and Coaster Pa
 inting\nAfter yoga and the sound bath\, the day continues with an opportun
 ity to explore the brewery. Your ticket includes a complimentary beer or n
 on-alcoholic beverage (for the first 50 ticket holders)\, and there will b
 e discounts on additional food and drink purchases throughout the day.\n\n
 Tap into your creative side with an optional Coaster Painting Kit. Unleash
  your inner artist while sipping on your favorite brew\, and take home a p
 ersonalized coaster as a memorable keepsake from the event.\nSnacks\, Drin
 ks\, and Socializing\nSatisfy your hunger with a variety of discounted foo
 d options\, perfect for enjoying while mingling with fellow attendees. Whe
 ther you prefer a refreshing craft beer or a non-alcoholic option\, there
 ’s something for everyone to enjoy as you relax post-yoga.\nExplore the 
 Local Vendor Village\nTake some time to explore the Local Vendor Village\,
  featuring a curated selection of small businesses offering unique\, welln
 ess-inspired products. Discover handcrafted goods\, specialty items\, and 
 wellness products while supporting local entrepreneurs. It’s the perfect
  place to find new treasures and connect with the community.\nEvent Itiner
 ary:\n\n 	10:00 AM: Check-in and explore the Vendor Village\n 	11:00 AM: Y
 oga + Sound Bath with Andrea Lopez and aLilyKat\n 	12:30 PM: Coaster Paint
 ing\, Vendor Village\, and enjoy discounted food and drinks\n\nDon’t Mis
 s Out!\nJoin Yoga on Tap for a refreshing\, one-of-a-kind experience that 
 blends yoga\, creativity\, and craft beer into the perfect Sunday morning.
  Whether you’re here for the mindful movement\, the social atmosphere\, 
 or the craft beer\, you’ll leave feeling inspired\, recharged\, and conn
 ected with the community.\n\nReserve your spot today and don’t miss this
  fun\, energizing\, and uplifting event!\n\nNote: The first 50 tickets inc
 lude a complimentary beer or non-alcoholic beverage. Coaster Painting is a
 vailable as an add-on.\n\nGET TICKETS\n
ATTACH;FMTTYPE=image/jpeg:https://breathemiami.us/wp-content/uploads/2024/
 10/Yoga-on-Tap-@-Tripping-Animals.jpg
CATEGORIES:Yoga Events
LOCATION:Tripping Animals Brewing Co.\, 2685 Northwest 105th Avenue\, Miami
 \, Florida\, 33172\, FL\, United States
X-APPLE-STRUCTURED-LOCATION;VALUE=URI;X-ADDRESS=2685 Northwest 105th Avenue
 \, Miami\, Florida\, 33172\, FL\, United States;X-APPLE-RADIUS=100;X-TITLE
 =Tripping Animals Brewing Co.:geo:0,0
END:VEVENT
BEGIN:VTIMEZONE
TZID:America/New_York
X-LIC-LOCATION:America/New_York
BEGIN:STANDARD
DTSTART:20241103T010000
TZOFFSETFROM:-0400
TZOFFSETTO:-0500
TZNAME:EST
END:STANDARD
END:VTIMEZONE
END:VCALENDAR