BEGIN:VCALENDAR
VERSION:2.0
PRODID:-//wp-events-plugin.com//7.2.3.1//EN
TZID:America/New_York
X-WR-TIMEZONE:America/New_York
BEGIN:VEVENT
UID:280@breathemiami.us
DTSTART;TZID=America/New_York:20240113T093000
DTEND;TZID=America/New_York:20240113T110000
DTSTAMP:20231227T185815Z
URL:https://breathemiami.us/events/yoga-meditation-and-energy-healing/
SUMMARY:Yoga\, Meditation\, and Energy Healing
DESCRIPTION:Event Information:\n\n\n\n\n\n\n\n\n\n\n\n\n\n\n\n\n\n\n\n\n\n\
 n\n\n\nIgnite the perfect start to your weekend with a morning dedicated t
 o yoga\, mindfulness\, and healing. Let this immersive experience set a po
 sitive tone for your day\, creating a space for rejuvenation and holistic 
 well-being. Your journey towards a balanced and revitalized weekend begins
  here.\n\n\n\n\n\n\n\n\n\n\n\n\n\n\n\n\n\n\n\n\n\n\n\n\n\nDate and Time:Sa
 turday\, January 13\, 2024 · 9:30 - 11am EST\n\nAbout this event:\n\n 	St
 art your weekend on a positive note with a morning of yoga\, mindfulness\,
  and healing at Snyder Park. Immerse yourself in a holistic experience tha
 t includes a yoga class\, guided meditation\, breathing exercises\, and so
 und healing sessions—all designed to enhance your overall well-being.\n\
 nTotal Duration: 1 hour 30 minute\n\nTicket Information:\n\n 	[Details abo
 ut ticket pricing\, categories\, and where to purchase]\n\n\nGET TICKETS\n
 \n\nWorkout Session Details:\n\n 	Begin with a yoga class to set a rejuven
 ating tone for the morning.\n 	Following yoga\, engage in guided meditatio
 n and breathing exercises.\n 	Depending on the day\, enjoy additional sess
 ions such as sound healing.\n\nEssentials to Bring:\n\n 	Please bring your
  yoga mat.\n\nParking Options:\n\n 	[Details about parking facilities\, av
 ailability\, and any associated costs]\n
ATTACH;FMTTYPE=image/jpeg:https://breathemiami.us/wp-content/uploads/2023/
 12/https___cdn.evbuc_.com_images_596605199_502077347659_1_original.jpg
CATEGORIES:Things To Do,Wellness Events,Yoga Events
LOCATION:Snyder Park\, 3299 Southwest 4th Avenue Fort Lauderdale\,\, Lauder
 dale\, FL\,  FL 33315 \, United States
X-APPLE-STRUCTURED-LOCATION;VALUE=URI;X-ADDRESS=3299 Southwest 4th Avenue F
 ort Lauderdale\,\, Lauderdale\, FL\,  FL 33315 \, United States;X-APPLE-RA
 DIUS=100;X-TITLE=Snyder Park:geo:0,0
END:VEVENT
BEGIN:VTIMEZONE
TZID:America/New_York
X-LIC-LOCATION:America/New_York
BEGIN:STANDARD
DTSTART:20231105T010000
TZOFFSETFROM:-0400
TZOFFSETTO:-0500
TZNAME:EST
END:STANDARD
END:VTIMEZONE
END:VCALENDAR