BEGIN:VCALENDAR
VERSION:2.0
PRODID:-//wp-events-plugin.com//7.2.3.1//EN
TZID:America/New_York
X-WR-TIMEZONE:America/New_York
BEGIN:VEVENT
UID:997@breathemiami.us
DTSTART;TZID=America/New_York:20241021T180000
DTEND;TZID=America/New_York:20241021T193000
DTSTAMP:20241003T181548Z
URL:https://breathemiami.us/events/yoga-kirtan-chai/
SUMMARY:Yoga\, Kirtan\, & Chai
DESCRIPTION:Join Dawn\, Kish\, Bali\, and Amala for a captivating evening f
 illed with the harmonious blend of yoga\, kirtan\, and chai designed to no
 urish both body and soul.\n\nThis delightful event invites participants to
  engage in a rejuvenating yoga practice that encourages mindfulness and co
 nnection to the self. Led by experienced instructors\, the yoga session wi
 ll focus on gentle movements and breathwork\, allowing attendees to releas
 e tension and cultivate inner peace.\n\nFollowing the yoga practice\, the 
 group will transition into an uplifting kirtan session\, where participant
 s will have the opportunity to join in the joyous chanting of sacred mantr
 as. Kirtan\, a form of call-and-response singing\, fosters a sense of comm
 unity and connection\, creating an atmosphere filled with love\, devotion\
 , and vibrant energy.\n\nTo enhance the experience\, participants will als
 o enjoy delicious chai\, a comforting and aromatic tea traditionally prepa
 red with spices and milk. Sharing this soothing beverage allows everyone t
 o come together\, deepening the sense of community and fostering meaningfu
 l connections.\n\nThis evening promises to be a soul-nourishing experience
 \, where individuals can unwind\, explore their spiritual practices\, and 
 share in the joy of movement\, music\, and camaraderie. Don’t miss this 
 unique opportunity to elevate your spirit and connect with others in a war
 m and inviting atmosphere!\n\nGET TICKETS\n
ATTACH;FMTTYPE=image/jpeg:https://breathemiami.us/wp-content/uploads/2024/
 10/Yoga-Kirtan-Chai.jpg
CATEGORIES:Mindfulness Events,Things To Do,Wellness Events,Yoga Events
LOCATION:Ahana Yoga\, 43 NE 38 st Miami\, Miami\, Florida\, 33137\, FL\, Un
 ited States
X-APPLE-STRUCTURED-LOCATION;VALUE=URI;X-ADDRESS=43 NE 38 st Miami\, Miami\,
  Florida\, 33137\, FL\, United States;X-APPLE-RADIUS=100;X-TITLE=Ahana Yog
 a:geo:0,0
END:VEVENT
BEGIN:VTIMEZONE
TZID:America/New_York
X-LIC-LOCATION:America/New_York
BEGIN:DAYLIGHT
DTSTART:20240310T030000
TZOFFSETFROM:-0500
TZOFFSETTO:-0400
TZNAME:EDT
END:DAYLIGHT
END:VTIMEZONE
END:VCALENDAR