BEGIN:VCALENDAR
VERSION:2.0
PRODID:-//wp-events-plugin.com//7.2.3.1//EN
TZID:America/New_York
X-WR-TIMEZONE:America/New_York
BEGIN:VEVENT
UID:535@breathemiami.us
DTSTART;TZID=America/New_York:20240614T080000
DTEND;TZID=America/New_York:20240614T090000
DTSTAMP:20240609T022442Z
URL:https://breathemiami.us/events/yoga-in-brickell-with-sofia/
SUMMARY:Yoga in Brickell with Sofia
DESCRIPTION:Join Sofia for an invigorating yoga session in the heart of Bri
 ckell\, designed to help you connect with yourself as you flow through pos
 es and discover your inner peace. This class welcomes everyone\, from seas
 oned yogis to those just starting their journey.\nAll Levels Welcome\nWhet
 her you are a yoga veteran or a complete beginner\, this session is open t
 o all levels. Sofia’s expert guidance ensures that each participant can 
 find their flow and benefit from the practice\, regardless of experience.\
 nWhat to Bring\nRemember to bring your mat\, water\, and positive vibes. T
 he serene outdoor setting provides the perfect backdrop for an enriching y
 oga experience.\nBreathe\, Stretch\, and Unwind\nCome breathe\, stretch\, 
 and unwind together in this peaceful environment. It's a wonderful opportu
 nity to embrace the tranquility of the outdoors while enhancing your physi
 cal and mental well-being.\n\nDon't miss this chance to elevate your yoga 
 practice and connect with a community of like-minded individuals in beauti
 ful Brickell. Join us and let’s find balance and harmony together.\n\nGE
 T TICKETS\n
ATTACH;FMTTYPE=image/jpeg:https://breathemiami.us/wp-content/uploads/2024/
 06/Yoga-in-Brickell-with-Sofia.jpg
LOCATION:River Walk Trail\, Aquila by John Raimondi Miami\, Miami\, Florida
 \, 33131\,  FL \, United States
X-APPLE-STRUCTURED-LOCATION;VALUE=URI;X-ADDRESS=Aquila by John Raimondi Mia
 mi\, Miami\, Florida\, 33131\,  FL \, United States;X-APPLE-RADIUS=100;X-T
 ITLE=River Walk Trail:geo:0,0
END:VEVENT
BEGIN:VTIMEZONE
TZID:America/New_York
X-LIC-LOCATION:America/New_York
BEGIN:DAYLIGHT
DTSTART:20240310T030000
TZOFFSETFROM:-0500
TZOFFSETTO:-0400
TZNAME:EDT
END:DAYLIGHT
END:VTIMEZONE
END:VCALENDAR