BEGIN:VCALENDAR
VERSION:2.0
PRODID:-//wp-events-plugin.com//7.2.3.1//EN
TZID:America/New_York
X-WR-TIMEZONE:America/New_York
BEGIN:VEVENT
UID:1287@breathemiami.us
DTSTART;TZID=America/New_York:20250319T103000
DTEND;TZID=America/New_York:20250319T114500
DTSTAMP:20250226T134530Z
URL:https://breathemiami.us/events/yoga-for-enhanced-daily-function-with-j
 oyce-4/
SUMMARY:Yoga for Enhanced Daily Function with Joyce
DESCRIPTION:At The Peacemaker\, Joyce leads an invigorating yoga class ever
 y Wednesday at 10:30 am\, priced at $17. This session is meticulously craf
 ted to bolster strength\, enhance flexibility\, and cultivate mindfulness\
 , seamlessly integrating these elements into participants' daily routines.
  Under Joyce's expert instruction\, attendees establish a regimen that not
  only revitalizes the body but also soothes the mind\, fostering a positiv
 e outlook for the day ahead. This transformative yoga experience encourage
 s individuals to embrace a more balanced and harmonious lifestyle.\n\nGET 
 TICKETS\n
ATTACH;FMTTYPE=image/jpeg:https://breathemiami.us/wp-content/uploads/2025/
 02/Yoga-for-Enhanced-Daily-Function-with-Joyce.avif
CATEGORIES:Yoga Events
LOCATION:The Peacemaker\, 8100 Southwest 81st Drive #suite 275 \, Miami\, F
 lorida\, 33143\, FL\, United States
X-APPLE-STRUCTURED-LOCATION;VALUE=URI;X-ADDRESS=8100 Southwest 81st Drive #
 suite 275 \, Miami\, Florida\, 33143\, FL\, United States;X-APPLE-RADIUS=1
 00;X-TITLE=The Peacemaker:geo:0,0
END:VEVENT
BEGIN:VTIMEZONE
TZID:America/New_York
X-LIC-LOCATION:America/New_York
BEGIN:DAYLIGHT
DTSTART:20250309T030000
TZOFFSETFROM:-0500
TZOFFSETTO:-0400
TZNAME:EDT
END:DAYLIGHT
END:VTIMEZONE
END:VCALENDAR