BEGIN:VCALENDAR
VERSION:2.0
PRODID:-//wp-events-plugin.com//7.2.3.1//EN
TZID:America/New_York
X-WR-TIMEZONE:America/New_York
BEGIN:VEVENT
UID:1149@breathemiami.us
DTSTART;TZID=America/New_York:20241120T103000
DTEND;TZID=America/New_York:20241120T113000
DTSTAMP:20241023T091322Z
URL:https://breathemiami.us/events/yoga-for-enhanced-daily-function-with-j
 oyce-2/
SUMMARY:Yoga for Enhanced Daily Function with Joyce
DESCRIPTION:Join Joyce at The Peacemaker for an invigorating yoga class tai
 lored to enhance daily functionality. Scheduled for Wednesdays at 10:30 AM
 \, this empowering session is available for just $17 and focuses on develo
 ping strength\, flexibility\, and mindfulness—essential components for a
  more fulfilling everyday life.\n\nDuring the class\, participants will be
 nefit from Joyce’s expert guidance\, learning techniques that energize t
 he body while promoting mental clarity and calmness. Each session is desig
 ned to help individuals cultivate a routine that seamlessly integrates int
 o their daily lives\, encouraging a balanced and harmonious lifestyle.\n\n
 Joyce's approach combines dynamic movement with mindful breathing\, ensuri
 ng that attendees leave feeling revitalized and centered. Whether you are 
 a seasoned yogi or a beginner\, this class offers modifications to accommo
 date all levels\, fostering a welcoming and supportive environment.\n\nKey
  Highlights:\n\n 	Strength and Flexibility: Focus on building physical str
 ength and enhancing flexibility to improve overall daily performance.\n 	M
 indfulness Practice: Incorporate mindfulness techniques that help calm the
  mind and foster mental resilience.\n 	Expert Instruction: Benefit from Jo
 yce’s extensive experience and knowledge\, ensuring participants receive
  personalized attention and support.\n\nClass Details: 📍 Location: The 
 Peacemaker\n🗓️ When: Wednesdays at 10:30 AM\n💲 Cost: $17\n\nExperi
 ence the transformative power of yoga with Joyce and embrace a lifestyle t
 hat promotes balance\, energy\, and well-being. This class is the perfect 
 opportunity to invest in your physical and mental health\, setting a posit
 ive tone for the rest of your day. Join us to discover how yoga can enhanc
 e your daily function and enrich your life!\n\nGET TICKETS\n
ATTACH;FMTTYPE=image/jpeg:https://breathemiami.us/wp-content/uploads/2024/
 10/Yoga-for-Enhanced-Daily-Function-with-Joyce-1.jpg
CATEGORIES:Yoga Events
LOCATION:The Peacemaker Studio\, 8100 SW 81st Dr\, Miami\, Fl\, 33143\, Uni
 ted States
X-APPLE-STRUCTURED-LOCATION;VALUE=URI;X-ADDRESS=8100 SW 81st Dr\, Miami\, F
 l\, 33143\, United States;X-APPLE-RADIUS=100;X-TITLE=The Peacemaker Studio
 :geo:0,0
END:VEVENT
BEGIN:VTIMEZONE
TZID:America/New_York
X-LIC-LOCATION:America/New_York
BEGIN:STANDARD
DTSTART:20241103T010000
TZOFFSETFROM:-0400
TZOFFSETTO:-0500
TZNAME:EST
END:STANDARD
END:VTIMEZONE
END:VCALENDAR