BEGIN:VCALENDAR
VERSION:2.0
PRODID:-//wp-events-plugin.com//7.2.3.1//EN
TZID:America/New_York
X-WR-TIMEZONE:America/New_York
BEGIN:VEVENT
UID:309@breathemiami.us
DTSTART;TZID=America/New_York:20231226T180000
DTEND;TZID=America/New_York:20231226T190000
DTSTAMP:20231227T201816Z
URL:https://breathemiami.us/events/yoga-for-body-mind-and-soul/
SUMMARY:Yoga For Body\, Mind & Soul
DESCRIPTION:Event Information:\n\nRevitalize your energy and refresh your s
 pirit with our rejuvenating multi-level yoga class. Immerse yourself in a 
 practice designed to recharge and reboot your body\, mind\, and soul. Join
  us for an invigorating experience that transcends levels\, offering a hol
 istic approach to wellness and leaving you renewed with positive energy. S
 tep onto the mat and embark on a journey of self-renewal\, where each brea
 th and movement contribute to a harmonious balance within.\n\nDate and Tim
 e:Tuesday\, December 26 · 6 - 7pm EST\n\nAbout this event:\n\n 	Recharge 
 and reboot with the 'Yoga For Body\, Mind &amp\; Soul' class at Burke Recr
 eation Center. This invigorating multi-level yoga session is designed to l
 eave you centered and recharged with positive energy. The class incorporat
 es classic yoga sequences to enhance coordination\, strength\, and flexibi
 lity\, essential for maintaining overall health and vitality.In addition t
 o poses and stretches\, participants will engage in soothing breathwork an
 d a rejuvenating guided relaxation to conclude the class on a harmonious n
 ote. The session is accessible to all\, providing a gradually challenging 
 experience tailored to individual levels\, making it suitable for both beg
 inners and experienced practitioners.Don't worry about parking\; it's on u
 s! Enjoy the convenience of free parking and immerse yourself in this holi
 stic yoga experience for the body\, mind\, and soul.\n\nDuration: 1 hour\n
 \nTicket Information:\n\n 	Parking: Free parking available\n\n\nGET TICKET
 S\n\n\nWorkout Session Details:\n\n 	Multi-level yoga class designed for b
 ody\, mind\, and soul\n 	Focus on coordination\, strength\, and flexibilit
 y\n 	Includes soothing breathwork and guided relaxation\n 	Accessible to a
 ll levels\, gradually challenging according to individual capabilities\n 	
 Suitable for beginners and experienced practitioners alike\n\nEssentials t
 o Bring:\n\n 	Details about specific items to bring are not provided. Part
 icipants are typically encouraged to bring a yoga mat\, comfortable clothi
 ng\, and a water bottle for hydration.\n\nParking Options:\n\n 	Free parki
 ng is available at the venue.\n
ATTACH;FMTTYPE=image/jpeg:https://breathemiami.us/wp-content/uploads/2023/
 12/https___cdn.evbuc_.com_images_653101499_389029370665_1_original.jpg
CATEGORIES:Wellness Events,Yoga Events
LOCATION:Burke Recreation Center\, 11400 Northeast 9th Court #1205 Biscayne
  Park\, \, Biscayan park\, United States\, 33161 \, FL\, United States
X-APPLE-STRUCTURED-LOCATION;VALUE=URI;X-ADDRESS=11400 Northeast 9th Court #
 1205 Biscayne Park\, \, Biscayan park\, United States\, 33161 \, FL\, Unit
 ed States;X-APPLE-RADIUS=100;X-TITLE=Burke Recreation Center:geo:0,0
END:VEVENT
BEGIN:VTIMEZONE
TZID:America/New_York
X-LIC-LOCATION:America/New_York
BEGIN:STANDARD
DTSTART:20231105T010000
TZOFFSETFROM:-0400
TZOFFSETTO:-0500
TZNAME:EST
END:STANDARD
END:VTIMEZONE
END:VCALENDAR