BEGIN:VCALENDAR
VERSION:2.0
PRODID:-//wp-events-plugin.com//7.2.3.1//EN
TZID:America/New_York
X-WR-TIMEZONE:America/New_York
BEGIN:VEVENT
UID:263@breathemiami.us
DTSTART;TZID=America/New_York:20231224T080000
DTEND;TZID=America/New_York:20231224T090000
DTSTAMP:20231227T203338Z
URL:https://breathemiami.us/events/yoga-flow/
SUMMARY:YOGA FLOW + WELLNESS DAY
DESCRIPTION:Event Information:\n\n\n\n\n\n\n\n\n\n\n\n\n\n\n\n\n\n\n\n\n\n\
 n\n\n\nEmbark on a transformative journey with us at the Yoga Flow + Welln
 ess Day—an invitation to a day of rejuvenation nestled in the scenic emb
 race of The Balfour Hotel in beautiful Miami Beach\, FL\, USA. Allow yours
 elf to be enveloped in the serenity of this exquisite location as we guide
  you through a seamless blend of invigorating yoga flows and holistic well
 ness practices. Whether you're a novice seeking tranquility or an experien
 ced yogi pursuing an elevated practice\, this event is crafted for everyon
 e looking to enhance well-being and discover inner peace. Join us as we cr
 eate a blissful sanctuary amidst the vibrant energy of Miami Beach—an op
 portunity to harmonize mind\, body\, and spirit in a truly enchanting sett
 ing.\n\n\n\n\n\n\n\n\n\n\n\n\n\n\n\n\n\n\n\n\n\n\n\n\n\nDate and Time:Sund
 ay\, December 24 · 8 - 9am EST\n\nAbout this event:\n\n 	Elevate your wel
 l-being with the Yoga Flow + Wellness Day at The Balfour Hotel on beautifu
 l Miami Beach\, FL\, USA. Immerse yourself in a rejuvenating atmosphere as
  we guide you through invigorating yoga flows and mindfulness practices. W
 hether you're a novice or an experienced yogi\, this event caters to all\,
  fostering well-being and inner peace.Our seasoned instructors will lead y
 ou through a diverse range of yoga styles\, enhancing flexibility\, streng
 th\, and balance. Take a respite from the daily grind and indulge in a day
  dedicated to self-care and relaxation.Connect with like-minded individual
 s\, absorb positive energy\, and depart feeling refreshed and rejuvenated.
  Seize this incredible opportunity to nurture your mind\, body\, and soul.
  Reserve your spot and your pool chair today!\n\nTotal Duration: 1 hour\n\
 nTicket Information:\n\n 	Standard Ticket:\n\n 	Access to the full Yoga Fl
 ow + Wellness Day event.\n 	Mobile eTicket for convenient entry.\n\n\n 	VI
 P Ticket (Limited Availability):\n\n 	Exclusive access to VIP areas and pr
 emium amenities.\n 	Priority seating for yoga sessions.\n 	Complimentary w
 ellness kit.\n\n\n\n\nGET TICKETS\n\n\nWorkout Session Details:\n\n 	Indul
 ge in a day filled with invigorating yoga flows and mindfulness practices 
 led by expert instructors. The event includes a variety of yoga styles tai
 lored to enhance flexibility\, strength\, and balance. The schedule will b
 e provided upon arrival.\n\nEssentials to Bring:\n\n 	Comfortable yoga att
 ire.\n 	Yoga mat and any personal props.\n 	Water bottle for hydration.\n\
 nParking Options:\n\n 	For parking details\, please check with The Balfour
  Hotel or refer to the event map.\n
ATTACH;FMTTYPE=image/jpeg:https://breathemiami.us/wp-content/uploads/2023/
 12/https___cdn.evbuc_.com_images_650636009_231758925230_1_original.jpg
CATEGORIES:Things To Do,Wellness Events,Yoga Events
LOCATION:USA\, 350 Ocean Drive Miami Beach\, FL 33139 United States\, Miami
  Beach\,\, FL\, 33139\,  FL \, United States
X-APPLE-STRUCTURED-LOCATION;VALUE=URI;X-ADDRESS=350 Ocean Drive Miami Beach
 \, FL 33139 United States\, Miami Beach\,\, FL\, 33139\,  FL \, United Sta
 tes;X-APPLE-RADIUS=100;X-TITLE=USA:geo:0,0
END:VEVENT
BEGIN:VTIMEZONE
TZID:America/New_York
X-LIC-LOCATION:America/New_York
BEGIN:STANDARD
DTSTART:20231105T010000
TZOFFSETFROM:-0400
TZOFFSETTO:-0500
TZNAME:EST
END:STANDARD
END:VTIMEZONE
END:VCALENDAR