BEGIN:VCALENDAR
VERSION:2.0
PRODID:-//wp-events-plugin.com//7.2.3.1//EN
TZID:America/New_York
X-WR-TIMEZONE:America/New_York
BEGIN:VEVENT
UID:1263@breathemiami.us
DTSTART;TZID=America/New_York:20250311T183000
DTEND;TZID=America/New_York:20250311T193000
DTSTAMP:20250218T005201Z
URL:https://breathemiami.us/events/yoga-en-espanol-con-gloria/
SUMMARY:Yoga en Espanol con Gloria
DESCRIPTION:🧘‍♀️ Explora la armonía entre cuerpo y mente\nCada ma
 rtes a las 6:30 p.m.\, Gloria dirige una sesión de yoga revitalizante en 
 The Peacemaker\, diseñada para personas de todos los niveles de experienc
 ia. A través de una combinación equilibrada de posturas físicas\, ejerc
 icios de respiración y meditación\, esta clase invita a los participante
 s a cultivar la paz interior\, mejorar la flexibilidad y fortalecer el bie
 nestar general.\n🌟 Una experiencia holística para el equilibrio y la r
 elajaciónCon un enfoque integral\, Gloria guía a cada asistente en el de
 sarrollo de una mejor postura\, una mayor conciencia corporal y una reducc
 ión del estrés. La clase se desarrolla en un ambiente sereno y acogedor\
 , ideal para desconectarse de la rutina y recargar energías con una menta
 lidad positiva.\n📅 Cuándo: Todos los martes a las 6:30 p.m.📍 Dónde
 : Studio The Peacemaker\nSumérgete en esta práctica transformadora y dis
 fruta de un momento dedicado a tu bienestar. ¡Te esperamos para compartir
  juntos esta experiencia enriquecedora! 🌿\n\n\nGET TICKETS\n
ATTACH;FMTTYPE=image/jpeg:https://breathemiami.us/wp-content/uploads/2025/
 02/Yoga-en-Espanol-con-Gloria.avif
CATEGORIES:Yoga Events
LOCATION:The Peacemaker\, 8100 Southwest 81st Drive #suite 275 \, Miami\, F
 lorida\, 33143\, FL\, United States
X-APPLE-STRUCTURED-LOCATION;VALUE=URI;X-ADDRESS=8100 Southwest 81st Drive #
 suite 275 \, Miami\, Florida\, 33143\, FL\, United States;X-APPLE-RADIUS=1
 00;X-TITLE=The Peacemaker:geo:0,0
END:VEVENT
BEGIN:VTIMEZONE
TZID:America/New_York
X-LIC-LOCATION:America/New_York
BEGIN:DAYLIGHT
DTSTART:20250309T030000
TZOFFSETFROM:-0500
TZOFFSETTO:-0400
TZNAME:EDT
END:DAYLIGHT
END:VTIMEZONE
END:VCALENDAR