BEGIN:VCALENDAR
VERSION:2.0
PRODID:-//wp-events-plugin.com//7.2.3.1//EN
TZID:America/New_York
X-WR-TIMEZONE:America/New_York
BEGIN:VEVENT
UID:681@breathemiami.us
DTSTART;TZID=America/New_York:20240810T090000
DTEND;TZID=America/New_York:20240810T100000
DTSTAMP:20240804T181952Z
URL:https://breathemiami.us/events/yoga-at-the-underline/
SUMMARY:Yoga at The Underline
DESCRIPTION:Friends of The Underline\, in partnership with Baptist Health S
 outh Florida\, invites you to rejuvenate your mind and body with free yoga
  classes every Saturday morning from 9 AM to 10 AM at The Underline Bricke
 ll Backyard SoundStage Plaza\, proudly sponsored by Florida Power &amp\; L
 ight.\nEvent Details:\nEvent: Yoga at The Underline Location: The Underlin
 e Brickell Backyard SoundStage Plaza Time: Every Saturday\, 9 AM - 10 AM I
 nstructor: Anny Noratto\nWhat to Expect:\n\n 	Inclusive Yoga: Welcoming yo
 gis of all ages and skill levels\, these classes are designed to foster co
 mmunity and wellness in a beautiful urban setting.\n 	Expert Guidance: Led
  by the talented and experienced instructor Anny Noratto\, participants wi
 ll enjoy a holistic yoga practice suitable for everyone.\n 	Preparation: A
 ttendees are encouraged to arrive 15 minutes early to set up. Remember to 
 bring your own yoga mat\, water\, and sweat towel for a comfortable experi
 ence.\n\nRegistration:\nWhile the yoga classes are free and open to the pu
 blic\, registration is required to ensure a smooth and organized event. Se
 cure your spot and join the community in celebrating health and wellness.\
 n\nEmbrace the opportunity to practice yoga in the heart of the city\, sur
 rounded by the vibrant energy of The Underline. Whether you're a seasoned 
 yogi or a beginner\, these classes offer a perfect start to your weekend. 
 Join us and be part of a growing movement towards a healthier\, more conne
 cted community.\n\nGET TICKETS\n
ATTACH;FMTTYPE=image/jpeg:https://breathemiami.us/wp-content/uploads/2024/
 08/Yoga-at-The-Underline.jpg
CATEGORIES:Mindfulness Events,Things To Do,Wellness Events,Yoga Events
LOCATION:The Underline Brickell Backyard Sound Stage Plaza\, SW 1st Avenue 
 SW 8th St\, Miami\, Florida\, 33129\, United States\, United States
X-APPLE-STRUCTURED-LOCATION;VALUE=URI;X-ADDRESS=SW 1st Avenue SW 8th St\, M
 iami\, Florida\, 33129\, United States\, United States;X-APPLE-RADIUS=100;
 X-TITLE=The Underline Brickell Backyard Sound Stage Plaza:geo:0,0
END:VEVENT
BEGIN:VTIMEZONE
TZID:America/New_York
X-LIC-LOCATION:America/New_York
BEGIN:DAYLIGHT
DTSTART:20240310T030000
TZOFFSETFROM:-0500
TZOFFSETTO:-0400
TZNAME:EDT
END:DAYLIGHT
END:VTIMEZONE
END:VCALENDAR