BEGIN:VCALENDAR
VERSION:2.0
PRODID:-//wp-events-plugin.com//7.2.3.1//EN
TZID:America/New_York
X-WR-TIMEZONE:America/New_York
BEGIN:VEVENT
UID:657@breathemiami.us
DTSTART;TZID=America/New_York:20240810T100000
DTEND;TZID=America/New_York:20240810T110000
DTSTAMP:20240804T233445Z
URL:https://breathemiami.us/events/yoga-at-the-kampong-botanical-gardens/
SUMMARY:Yoga at the Kampong Botanical Gardens
DESCRIPTION:Experience the serenity of nature and the tranquility of yoga i
 n one of Miami’s hidden gems\, the Kampong Botanical Gardens. Join Sam R
 eynolds\, renowned Miami yoga instructor and founder of the wellness commu
 nity Café Namaste\, for a rejuvenating morning vinyasa class set amidst l
 ush tropical beauty.\nEvent Details:\n\n 	Schedule: Select Saturdays\, inc
 luding June 15 and June 29\, starting at 10:00 AM.\n 	Class Overview: This
  all-levels yoga session combines dynamic and static movements designed to
  energize and restore. The gentle vinyasa flow will cater to practitioners
  of all levels\, allowing each individual to adapt the practice to their p
 ersonal needs while soaking in the scenic garden views.\n 	Class Perk: You
 r participation includes all-day admission to the Kampong Botanical Garden
 s and contributes to the preservation of this historic site.\n 	What to Br
 ing: Participants are encouraged to bring a yoga mat\, a picnic\, a book\,
  and bug spray. Prepare for a delightful day surrounded by nature.\n 	Loca
 tion: The class takes place at the Shokman Education Center\, located at 4
 013 South Douglas Road\, Miami\, FL. The venue is covered\, so the class w
 ill proceed rain or shine. Free parking is available next to the main entr
 ance.\n\nImmerse yourself in a morning of movement\, relaxation\, and medi
 tation in a magical garden setting. This is a perfect opportunity to conne
 ct with nature\, enhance your well-being\, and leave feeling refreshed and
  revitalized. Join us for a transformative yoga experience in the heart of
  Miami’s tropical paradise.\n\nGET TICKETS\n
ATTACH;FMTTYPE=image/jpeg:https://breathemiami.us/wp-content/uploads/2024/
 08/Yoga-at-the-Kampong-Botanical-Gardens.jpg
CATEGORIES:Mindfulness Events,Nature Events,Things To Do,Wellness
 Events,Yoga Events
LOCATION:The Kampong\, 4013 Douglas Road Miami\, Miami\, Fl\, 33133\, FL \,
  United States
X-APPLE-STRUCTURED-LOCATION;VALUE=URI;X-ADDRESS=4013 Douglas Road Miami\, M
 iami\, Fl\, 33133\, FL \, United States;X-APPLE-RADIUS=100;X-TITLE=The Kam
 pong:geo:0,0
END:VEVENT
BEGIN:VTIMEZONE
TZID:America/New_York
X-LIC-LOCATION:America/New_York
BEGIN:DAYLIGHT
DTSTART:20240310T030000
TZOFFSETFROM:-0500
TZOFFSETTO:-0400
TZNAME:EDT
END:DAYLIGHT
END:VTIMEZONE
END:VCALENDAR