BEGIN:VCALENDAR
VERSION:2.0
PRODID:-//wp-events-plugin.com//7.2.3.1//EN
TZID:America/New_York
X-WR-TIMEZONE:America/New_York
BEGIN:VEVENT
UID:1154@breathemiami.us
DTSTART;TZID=America/New_York:20241116T103000
DTEND;TZID=America/New_York:20241116T113000
DTSTAMP:20241023T102158Z
URL:https://breathemiami.us/events/yoga-at-the-kampong-botanical-gardens-c
 oconut-grove/
SUMMARY:Yoga at the Kampong Botanical Gardens (Coconut Grove)
DESCRIPTION:Start your weekend with a rejuvenating yoga experience in one o
 f Miami's hidden gems\, the Kampong Botanical Gardens. Led by Sam Reynolds
 \, a seasoned yoga instructor and founder of Cafe Namaste\, this gentle mo
 rning vinyasa flow invites participants of all levels to reconnect with th
 eir body and mind amidst lush tropical scenery.\n\nWhat to Expect:\n\n 	Cl
 ass Details:\nHeld every Saturday from 10:30 AM - 11:30 AM (except holiday
  weekends)\, this all-levels yoga class incorporates dynamic and static mo
 vements\, helping you energize and restore your body. Sam's class is desig
 ned to adapt to all participants\, making it accessible whether you're a s
 easoned practitioner or a beginner.\nExpect to leave feeling centered\, re
 freshed\, and recharged.\n 	Added Perks:\nThe class fee includes all-day a
 dmission to the beautiful Kampong gardens\, allowing you to explore this e
 nchanting space at your own pace. Your contribution also supports the pres
 ervation of this historic home and garden\, which was once the estate of D
 r. David Fairchild\, a renowned botanical explorer.\nAfter class\, feel fr
 ee to bring a picnic\, book\, and enjoy the surroundings.\n 	Location &amp
 \; Logistics:\nThe Kampong is located at 4013 South Douglas Rd\, Coconut G
 rove\, with free parking available near the main entrance. The class will 
 be held rain or shine in the Shokman Education Center\, which provides a c
 overed space.\nBe sure to bring a yoga mat\, water\, bug spray\, and any o
 ther personal items to make your practice more comfortable.\n\nRegistratio
 n:\n\n 	Cost: $25 per class\, $18 for Kampong members\n(Membership discoun
 ts are available\, and can be purchased through the Kampong website)\n 	Ho
 w to Sign Up: Visit the Kampong website directly or call (305) 442-7169 fo
 r assistance.\n\nAbout the Kampong:\nNestled on the shores of Biscayne Bay
  in Coconut Grove\, the Kampong is home to an incredible variety of tropic
 al fruit trees and flowering plants from Southeast Asia and beyond. The na
 me "Kampong" is derived from the Malay and Javanese word for a village\, a
  fitting tribute to the sense of community and tranquility this space offe
 rs.\n\nTake advantage of this serene setting to connect with nature\, prac
 tice mindfulness\, and enhance your well-being.\n\nGET TICKETS\n
ATTACH;FMTTYPE=image/jpeg:https://breathemiami.us/wp-content/uploads/2024/
 10/Yoga-at-the-Kampong-Botanical-Gardens-Coconut-Grove.jpg
CATEGORIES:Yoga Events
LOCATION:National Tropical Botanical Garden\, 4013 Douglas Road\, Miami\, F
 lorida\, 33133\, FL\, United States
X-APPLE-STRUCTURED-LOCATION;VALUE=URI;X-ADDRESS=4013 Douglas Road\, Miami\,
  Florida\, 33133\, FL\, United States;X-APPLE-RADIUS=100;X-TITLE=National 
 Tropical Botanical Garden:geo:0,0
END:VEVENT
BEGIN:VTIMEZONE
TZID:America/New_York
X-LIC-LOCATION:America/New_York
BEGIN:STANDARD
DTSTART:20241103T010000
TZOFFSETFROM:-0400
TZOFFSETTO:-0500
TZNAME:EST
END:STANDARD
END:VTIMEZONE
END:VCALENDAR