BEGIN:VCALENDAR
VERSION:2.0
PRODID:-//wp-events-plugin.com//7.2.3.1//EN
TZID:America/New_York
X-WR-TIMEZONE:America/New_York
BEGIN:VEVENT
UID:1164@breathemiami.us
DTSTART;TZID=America/New_York:20241125T183000
DTEND;TZID=America/New_York:20241125T190000
DTSTAMP:20241023T123002Z
URL:https://breathemiami.us/events/yoga-at-tarpon-river-brewing/
SUMMARY:Yoga at Tarpon River Brewing
DESCRIPTION:Start your week with a rejuvenating all-levels yoga class at Ta
 rpon River Brewing\, hosted by Ales &amp\; Asanas Yoga. This unique sessio
 n takes place in the barrel room\, offering a laid-back atmosphere perfect
  for those who want to stretch\, relax\, and enjoy a post-yoga treat—yog
 is get a 20% discount on draft beers! Whether you're new to yoga\, explori
 ng alternatives to traditional studios\, or just looking to connect with t
 he local community\, this class is for you.\n\nDesigned to make yoga acces
 sible and fun\, it welcomes participants of all ages and skill levels (21+
  for alcohol consumption). Move your body\, share a laugh\, and reward you
 rself with a drink after class. Space is limited\, and spots fill up quick
 ly—reserve your spot for $12 in advance or $20 on the day (plus fees). S
 upport local businesses while staying active in a fun\, inclusive environm
 ent.\n\nFollow @AlesandAsanas on social media for updates and event detail
 s. Note: Same-day cancellations or no-shows are non-refundable and non-tra
 nsferable.\n\nGET TICKETS\n
ATTACH;FMTTYPE=image/jpeg:https://breathemiami.us/wp-content/uploads/2024/
 10/Yoga-at-Tarpon-River-Brewing.jpg
CATEGORIES:Yoga Events
LOCATION:Tarpon River Brewing\, 280 Southwest 6th Street\, Fort Lauderdale\
 , Florida\, 33301\, FL\, United States
X-APPLE-STRUCTURED-LOCATION;VALUE=URI;X-ADDRESS=280 Southwest 6th Street\, 
 Fort Lauderdale\, Florida\, 33301\, FL\, United States;X-APPLE-RADIUS=100;
 X-TITLE=Tarpon River Brewing:geo:0,0
END:VEVENT
BEGIN:VTIMEZONE
TZID:America/New_York
X-LIC-LOCATION:America/New_York
BEGIN:STANDARD
DTSTART:20241103T010000
TZOFFSETFROM:-0400
TZOFFSETTO:-0500
TZNAME:EST
END:STANDARD
END:VTIMEZONE
END:VCALENDAR