BEGIN:VCALENDAR
VERSION:2.0
PRODID:-//wp-events-plugin.com//7.2.3.1//EN
TZID:America/New_York
X-WR-TIMEZONE:America/New_York
BEGIN:VEVENT
UID:924@breathemiami.us
DTSTART;TZID=America/New_York:20241014T190000
DTEND;TZID=America/New_York:20241014T200000
DTSTAMP:20240929T134100Z
URL:https://breathemiami.us/events/yoga-at-cc-brickell-key/
SUMMARY:Yoga at CC Brickell Key
DESCRIPTION:At CC Brickell Key\, all yoga classes are guided by the experie
 nced instructor Joseph Minday. With five years of dedicated teaching exper
 ience\, Joseph is a certified professional in various disciplines\, includ
 ing yoga\, SUP yoga\, meditation\, mobility through Budokon yoga\, and Ani
 mal Flow. His approach focuses on fostering a sustainable physical practic
 e\, enhancing the mind-body connection\, and cultivating inner peace.\n\nC
 lasses are conducted in a beautifully candle-lit racquetball court located
  on the lobby level\, providing a serene and inviting atmosphere for parti
 cipants. Attendees are encouraged to arrive 10 to 15 minutes early to secu
 re their spot and prepare for the session. Remember to bring your yoga mat
  for a comfortable practice.\n\nFor any inquiries or suggestions\, please 
 feel free to reach out via text at 305-773-0198.\n\nJoin us for an enrichi
 ng yoga experience that promises to enhance your well-being and mindfulnes
 s! To learn more about Joseph and his practice\, visit his Instagram page 
 at @yosep.yogi.\n\nGET TICKETS\n
CATEGORIES:Yoga Events
LOCATION:Courvoisier Courts\, 701 Brickell Key Boulevard Miami\, Miami\, Fl
 orida\, 33131\, FL\, United States
X-APPLE-STRUCTURED-LOCATION;VALUE=URI;X-ADDRESS=701 Brickell Key Boulevard 
 Miami\, Miami\, Florida\, 33131\, FL\, United States;X-APPLE-RADIUS=100;X-
 TITLE=Courvoisier Courts:geo:0,0
END:VEVENT
BEGIN:VTIMEZONE
TZID:America/New_York
X-LIC-LOCATION:America/New_York
BEGIN:DAYLIGHT
DTSTART:20240310T030000
TZOFFSETFROM:-0500
TZOFFSETTO:-0400
TZNAME:EDT
END:DAYLIGHT
END:VTIMEZONE
END:VCALENDAR