BEGIN:VCALENDAR
VERSION:2.0
PRODID:-//wp-events-plugin.com//7.2.3.1//EN
TZID:America/New_York
X-WR-TIMEZONE:America/New_York
BEGIN:VEVENT
UID:869@breathemiami.us
DTSTART;TZID=America/New_York:20241018T190000
DTEND;TZID=America/New_York:20241018T200000
DTSTAMP:20240915T101150Z
URL:https://breathemiami.us/events/yoga-and-sound-meditation/
SUMMARY:YOGA AND SOUND MEDITATION
DESCRIPTION:Experience a harmonious blend of movement and sound with our Vi
 nyasa Flow Yoga and Sound Bowl Meditation session. This unique event combi
 nes the fluidity of Vinyasa Flow Yoga with the therapeutic resonance of so
 und bowl meditation to create a deeply rejuvenating practice.\n\nIn this c
 lass\, participants will flow through a series of dynamic yoga poses\, syn
 chronizing breath with movement to cultivate strength\, flexibility\, and 
 inner calm. The practice will be complemented by the soothing vibrations o
 f crystal sound bowls\, which are designed to enhance relaxation and deepe
 n the meditative experience.\n\nEvent Highlights:\n\n 	Yoga Practice: Enga
 ge in a fluid Vinyasa Flow sequence that promotes balance and energy flow.
 \n 	Sound Meditation: Immerse yourself in the healing frequencies of sound
  bowls to release tension and foster tranquility.\n\nWhat to Bring:\n\n 	A
  yoga mat\n 	Comfortable clothing\n 	An open heart and mind\n\nJoin us for
  an evening of physical movement and sound healing that promises to harmon
 ize your body\, mind\, and spirit. Whether you are new to yoga or a season
 ed practitioner\, this session offers a perfect opportunity to explore the
  synergy of movement and sound.\n\nGET TICKETS\n
ATTACH;FMTTYPE=image/jpeg:https://breathemiami.us/wp-content/uploads/2024/
 09/YOGA-AND-SOUND-MEDITATION.jpg
CATEGORIES:Things To Do,Wellness Events,Yoga Events
LOCATION:7600 N Kendall Dr\, 7600 North Kendall Drive Miami\, Miami\, Flori
 da\, 33156\, FL\, United States
X-APPLE-STRUCTURED-LOCATION;VALUE=URI;X-ADDRESS=7600 North Kendall Drive Mi
 ami\, Miami\, Florida\, 33156\, FL\, United States;X-APPLE-RADIUS=100;X-TI
 TLE=7600 N Kendall Dr:geo:0,0
END:VEVENT
BEGIN:VTIMEZONE
TZID:America/New_York
X-LIC-LOCATION:America/New_York
BEGIN:DAYLIGHT
DTSTART:20240310T030000
TZOFFSETFROM:-0500
TZOFFSETTO:-0400
TZNAME:EDT
END:DAYLIGHT
END:VTIMEZONE
END:VCALENDAR