BEGIN:VCALENDAR
VERSION:2.0
PRODID:-//wp-events-plugin.com//7.2.3.1//EN
TZID:America/New_York
X-WR-TIMEZONE:America/New_York
BEGIN:VEVENT
UID:1077@breathemiami.us
DTSTART;TZID=America/New_York:20241106T190000
DTEND;TZID=America/New_York:20241106T200000
DTSTAMP:20241013T121836Z
URL:https://breathemiami.us/events/yoga-and-sound-meditation-2/
SUMMARY:YOGA AND SOUND MEDITATION
DESCRIPTION:Yoga and Sound Meditation\nLocation: Kendall\, FL\nCategory: He
 alth and Wellness Classes\n\nDiscover a transformative wellness experience
  with Yoga and Sound Meditation in Kendall\, Florida. This event offers pa
 rticipants a unique opportunity to combine the calming benefits of yoga wi
 th the deep relaxation of sound meditation.\n\nEvent Overview: Led by expe
 rienced instructors\, the session begins with a gentle yoga flow\, designe
 d to stretch and awaken the body\, promoting flexibility and inner balance
 . Following the yoga practice\, attendees will be guided through a meditat
 ive sound journey\, where soothing tones from crystal singing bowls\, chim
 es\, and other instruments help quiet the mind\, reduce stress\, and promo
 te a sense of peace and well-being.\n\nWhether you're a seasoned yogi or n
 ew to mindfulness practices\, this class is open to all levels and provide
 s a welcoming space to connect with yourself and others. It’s a perfect 
 way to unwind\, recharge\, and elevate your mental and physical health.\n\
 nThings to Do in Kendall\, FL: Beyond the Yoga and Sound Meditation event\
 , Kendall offers a variety of activities for wellness enthusiasts\, from n
 ature parks to health-focused events. It's a vibrant area known for its co
 mmunity-driven classes\, making it an ideal spot for those seeking persona
 l growth and well-being.\n\nThis event is part of a larger wellness initia
 tive in Florida\, aimed at promoting holistic health in the community thro
 ugh diverse classes and workshops.\n\nOrganized by:\n[Event Organizer's Na
 me] (details forthcoming)\n\nJoin us for a relaxing and rejuvenating exper
 ience\, and immerse yourself in the healing power of yoga and sound medita
 tion.\n\nGET TICKETS\n
ATTACH;FMTTYPE=image/jpeg:https://breathemiami.us/wp-content/uploads/2024/
 10/YOGA-AND-SOUND-MEDITATION.jpg
CATEGORIES:Wellness Events
LOCATION:7600 N Kendall Dr\, 7600 North Kendall Drive Miami\, Miami\, Flori
 da\, 33156\, FL\, United States
X-APPLE-STRUCTURED-LOCATION;VALUE=URI;X-ADDRESS=7600 North Kendall Drive Mi
 ami\, Miami\, Florida\, 33156\, FL\, United States;X-APPLE-RADIUS=100;X-TI
 TLE=7600 N Kendall Dr:geo:0,0
END:VEVENT
BEGIN:VTIMEZONE
TZID:America/New_York
X-LIC-LOCATION:America/New_York
BEGIN:STANDARD
DTSTART:20241103T010000
TZOFFSETFROM:-0400
TZOFFSETTO:-0500
TZNAME:EST
END:STANDARD
END:VTIMEZONE
END:VCALENDAR