BEGIN:VCALENDAR
VERSION:2.0
PRODID:-//wp-events-plugin.com//7.2.3.1//EN
TZID:America/New_York
X-WR-TIMEZONE:America/New_York
BEGIN:VEVENT
UID:996@breathemiami.us
DTSTART;TZID=America/New_York:20241020T140000
DTEND;TZID=America/New_York:20241020T170000
DTSTAMP:20241003T181225Z
URL:https://breathemiami.us/events/yin-yoga-with-amanda-giacomini/
SUMMARY:Yin yoga with Amanda Giacomini
DESCRIPTION:Participants are invited to immerse themselves in a transformat
 ive experience with Amanda Giacomini\, a skilled instructor renowned for h
 er profound approach to yin yoga. This workshop is designed to provide a n
 ourishing and deeply restorative practice that focuses on releasing tensio
 n and fostering healing within the body.\n\nThroughout the session\, atten
 dees will not only engage in gentle yin yoga poses but also gain valuable 
 insights into the foundational principles of teaching this practice to oth
 ers. The workshop will cover several key topics\, including:\n\n 	Anatomy 
 for Yin Yoga &amp\; the Biomechanics of Fascia: Participants will learn ab
 out the unique anatomical considerations relevant to yin yoga and how unde
 rstanding fascia can enhance their practice and teaching.\n 	Subtle Body E
 nergetics: Explore the concept of the subtle body\, including how energy f
 lows and influences physical and emotional well-being during yin yoga.\n 	
 Introduction to Chinese Meridians: Discover the ancient principles of Chin
 ese medicine\, focusing on meridian pathways and how they relate to yin yo
 ga practice\, enhancing the flow of energy throughout the body.\n 	Self-Ma
 ssage with Pressure Points: Learn practical techniques for self-massage us
 ing pressure points to release tension and promote relaxation\, helping pa
 rticipants cultivate a deeper connection with their bodies.\n 	The Art of 
 Holding Space: Delve into the essential skill of creating a safe and suppo
 rtive environment for practitioners\, incorporating the thoughtful use of 
 props and music to enhance the experience.\n\nThis yin yoga workshop promi
 ses to be both educational and experiential\, offering participants a holi
 stic understanding of the practice while equipping them with the tools to 
 share its benefits with others. Whether one is new to yoga or looking to d
 eepen their knowledge\, this workshop with Amanda Giacomini is an opportun
 ity to explore the transformative power of yin yoga in a supportive commun
 ity setting. Participants will leave feeling rejuvenated\, informed\, and 
 inspired to continue their journey in this beautiful practice.\n\nGET TICK
 ETS\n
ATTACH;FMTTYPE=image/jpeg:https://breathemiami.us/wp-content/uploads/2024/
 10/Yin-yoga-with-Amanda-Giacomini.jpg
CATEGORIES:Things To Do,Yoga Events
LOCATION:Ahana Yoga\, 43 NE 38 st Miami\, Miami\, Florida\, 33137\, FL\, Un
 ited States
X-APPLE-STRUCTURED-LOCATION;VALUE=URI;X-ADDRESS=43 NE 38 st Miami\, Miami\,
  Florida\, 33137\, FL\, United States;X-APPLE-RADIUS=100;X-TITLE=Ahana Yog
 a:geo:0,0
END:VEVENT
BEGIN:VTIMEZONE
TZID:America/New_York
X-LIC-LOCATION:America/New_York
BEGIN:DAYLIGHT
DTSTART:20240310T030000
TZOFFSETFROM:-0500
TZOFFSETTO:-0400
TZNAME:EDT
END:DAYLIGHT
END:VTIMEZONE
END:VCALENDAR