BEGIN:VCALENDAR
VERSION:2.0
PRODID:-//wp-events-plugin.com//7.2.3.1//EN
TZID:America/New_York
X-WR-TIMEZONE:America/New_York
BEGIN:VEVENT
UID:1268@breathemiami.us
DTSTART;TZID=America/New_York:20250311T194500
DTEND;TZID=America/New_York:20250311T211500
DTSTAMP:20250218T012754Z
URL:https://breathemiami.us/events/yin-yoga-sound-healing-with-fabiola/
SUMMARY:Yin Yoga & Sound Healing with Fabiola
DESCRIPTION:Experience deep relaxation and renewal every Tuesday from 7:45 
 PM to 9:15 PM at The Peacemaker with Yin Yoga &amp\; Sound Healing\, led b
 y the compassionate and skilled Fabiola. This all-levels class is designed
  to help participants release tension\, cultivate mindfulness\, and restor
 e balance through a unique fusion of gentle Yin Yoga and vibrational sound
  therapy.\n\nA Journey of Stillness &amp\; Healing\nThrough slow\, meditat
 ive postures\, Yin Yoga targets the deep connective tissues\, encouraging 
 flexibility\, improved circulation\, and a profound sense of surrender. As
  the body softens into each pose\, the session transitions into a transfor
 mative sound healing experience\, where soothing frequencies from therapeu
 tic instruments—such as singing bowls\, chimes\, and gongs—help to qui
 et the mind\, reduce stress\, and enhance inner harmony.\n\nWhat to Expect
 :\n✨ Restorative Yin Yoga Poses – Deep stretches to release tension an
 d increase flexibility🔊 Healing Sound Frequencies – Live sound therap
 y to calm the nervous system and promote relaxation🧘 Welcoming &amp\; I
 nclusive Atmosphere – Suitable for all experience levels🌿 Mindfulness
  &amp\; Stress Relief Tools – Techniques to cultivate inner peace beyond
  the mat\n\nWhat to Bring:\n✔ Yoga mat for comfort✔ Personal props (bl
 anket\, bolster\, or eye pillow) for added relaxation✔ Open heart &amp\;
  mind for a journey of deep rest\nGive yourself the gift of stillness\, so
 und\, and self-care—a sanctuary for renewal in the middle of your week. 
 Reserve your spot today and step into a space of peace\, balance\, and hea
 ling.\n\n\nGET TICKETS\n
ATTACH;FMTTYPE=image/jpeg:https://breathemiami.us/wp-content/uploads/2025/
 02/Yin-Yoga-and-Sound-Healing.avif
CATEGORIES:Yoga Events
LOCATION:The Peacemaker\, 8100 Southwest 81st Drive #suite 275 \, Miami\, F
 lorida\, 33143\, FL\, United States
X-APPLE-STRUCTURED-LOCATION;VALUE=URI;X-ADDRESS=8100 Southwest 81st Drive #
 suite 275 \, Miami\, Florida\, 33143\, FL\, United States;X-APPLE-RADIUS=1
 00;X-TITLE=The Peacemaker:geo:0,0
END:VEVENT
BEGIN:VTIMEZONE
TZID:America/New_York
X-LIC-LOCATION:America/New_York
BEGIN:DAYLIGHT
DTSTART:20250309T030000
TZOFFSETFROM:-0500
TZOFFSETTO:-0400
TZNAME:EDT
END:DAYLIGHT
END:VTIMEZONE
END:VCALENDAR