BEGIN:VCALENDAR
VERSION:2.0
PRODID:-//wp-events-plugin.com//7.2.3.1//EN
TZID:America/New_York
X-WR-TIMEZONE:America/New_York
BEGIN:VEVENT
UID:1006@breathemiami.us
DTSTART;TZID=America/New_York:20241105T191500
DTEND;TZID=America/New_York:20241105T204500
DTSTAMP:20241005T141131Z
URL:https://breathemiami.us/events/yin-yoga-and-sound-healing-with-fabiola
 /
SUMMARY:Yin Yoga and Sound Healing with Fabiola
DESCRIPTION:Every Tuesday evening from 7:15 PM to 8:45 PM at Peacemaker Stu
 dio\, immerse yourself in the calming experience of Yin Yoga and Sound Hea
 ling led by Fabiola. This serene class is designed to nurture participants
  of all levels\, blending the deeply restorative stretches of Yin Yoga wit
 h the soothing\, meditative vibrations of sound healing to foster deep rel
 axation\, balance\, and inner peace.\n\nUnder Fabiola’s guidance\, parti
 cipants will move through gentle Yin Yoga postures that target the body’
 s connective tissues\, encouraging flexibility and tension release. Follow
 ing the yoga session\, Fabiola will lead a transformative sound healing ex
 perience using healing instruments like singing bowls\, gongs\, and chimes
  to elevate the practice. The harmonious sound frequencies help calm the m
 ind\, promote emotional healing\, and deepen the overall sense of relaxati
 on.\n\nWhat to Expect:\n\n 	Deeply restorative Yin Yoga poses to release t
 ension\n 	Calming sound frequencies to enhance mental and emotional well-b
 eing\n 	A peaceful\, welcoming environment open to all levels of yoga prac
 tice\n 	Tools and techniques for mindfulness\, relaxation\, and stress rel
 ief\n\nWhat to Bring:\n\n 	Yoga mat\n 	Personal items for comfort (blanket
 \, eye mask\, etc.)\n 	Open heart and mind\, ready to relax and let go\n\n
 When: Every Tuesday\, 7:15 PM - 8:45 PM\nWhere: Peacemaker Studio\n\nThis 
 class offers the perfect opportunity to unwind\, recharge\, and reconnect 
 with yourself in a nurturing\, supportive space. Secure your spot today an
 d take a step toward greater peace\, balance\, and well-being. Fabiola loo
 ks forward to welcoming you!\n\nGET TICKETS\n
ATTACH;FMTTYPE=image/jpeg:https://breathemiami.us/wp-content/uploads/2024/
 10/Yin-Yoga-and-Sound-Healing-w-Fabiola.jpg
CATEGORIES:Yoga Events
LOCATION:The Peacemaker\, 8100 Southwest 81st Drive #suite 275 \, Miami\, F
 lorida\, 33143\, FL\, United States
X-APPLE-STRUCTURED-LOCATION;VALUE=URI;X-ADDRESS=8100 Southwest 81st Drive #
 suite 275 \, Miami\, Florida\, 33143\, FL\, United States;X-APPLE-RADIUS=1
 00;X-TITLE=The Peacemaker:geo:0,0
END:VEVENT
BEGIN:VTIMEZONE
TZID:America/New_York
X-LIC-LOCATION:America/New_York
BEGIN:STANDARD
DTSTART:20241103T010000
TZOFFSETFROM:-0400
TZOFFSETTO:-0500
TZNAME:EST
END:STANDARD
END:VTIMEZONE
END:VCALENDAR