BEGIN:VCALENDAR
VERSION:2.0
PRODID:-//wp-events-plugin.com//7.2.3.1//EN
TZID:America/New_York
X-WR-TIMEZONE:America/New_York
BEGIN:VEVENT
UID:1291@breathemiami.us
DTSTART;TZID=America/New_York:20250318T194500
DTEND;TZID=America/New_York:20250318T211500
DTSTAMP:20250226T172857Z
URL:https://breathemiami.us/events/yin-yoga-and-sound-healing-w-fabiola/
SUMMARY:Yin Yoga and Sound Healing w/ Fabiola
DESCRIPTION:Every Tuesday from 7:45 PM to 9:15 PM\, The Peacemaker invites 
 individuals of all experience levels to join Yin Yoga and Sound Healing\, 
 a deeply restorative session guided by Fabiola. This immersive practice bl
 ends the gentle\, meditative postures of Yin Yoga with the therapeutic vib
 rations of sound healing instruments\, creating a powerful space for relax
 ation\, inner balance\, and renewal.\n\nA Transformative Experience Awaits
 \nFabiola expertly leads participants through a series of long-held Yin Yo
 ga poses\, which work deeply into the connective tissues\, promoting flexi
 bility\, circulation\, and emotional release. The session seamlessly trans
 itions into a sound healing experience\, where resonant frequencies from s
 inging bowls and other healing instruments help calm the nervous system\, 
 quiet the mind\, and restore energetic harmony.\n\nWhat to Expect:\n✨ De
 ep Relaxation – Allow your body to soften as Yin postures gently release
  tension and stress.🔊 Healing Sound Frequencies – Experience the powe
 r of vibrational therapy to clear the mind and restore balance.🧘Inclusi
 ve &amp\; Supportive Space: Suitable for all levels\, offering a welcomin
 g environment for self-care and reflection.💆Mindfulness &amp\; Stress R
 elief Tools: Take home relaxation techniques that nurture your well-being
  beyond the session.\n\nHow to Prepare:\nBring a yoga mat\, a blanket or c
 ushion for added comfort\, and an open heart ready to receive the healing 
 benefits of this unique practice.\nSecure your spot today and embark on a 
 journey toward deep relaxation\, emotional renewal\, and inner peace. We l
 ook forward to welcoming you!\n\n\nGET TICKETS\n
ATTACH;FMTTYPE=image/jpeg:https://breathemiami.us/wp-content/uploads/2025/
 02/Yin-Yoga-and-Sound-Healing-w-Fabiola.avif
CATEGORIES:Yoga Events
LOCATION:The Peacemaker\, 8100 Southwest 81st Drive #suite 275 \, Miami\, F
 lorida\, 33143\, FL\, United States
X-APPLE-STRUCTURED-LOCATION;VALUE=URI;X-ADDRESS=8100 Southwest 81st Drive #
 suite 275 \, Miami\, Florida\, 33143\, FL\, United States;X-APPLE-RADIUS=1
 00;X-TITLE=The Peacemaker:geo:0,0
END:VEVENT
BEGIN:VTIMEZONE
TZID:America/New_York
X-LIC-LOCATION:America/New_York
BEGIN:DAYLIGHT
DTSTART:20250309T030000
TZOFFSETFROM:-0500
TZOFFSETTO:-0400
TZNAME:EDT
END:DAYLIGHT
END:VTIMEZONE
END:VCALENDAR