BEGIN:VCALENDAR
VERSION:2.0
PRODID:-//wp-events-plugin.com//7.2.3.1//EN
TZID:America/New_York
X-WR-TIMEZONE:America/New_York
BEGIN:VEVENT
UID:547@breathemiami.us
DTSTART;TZID=America/New_York:20240728T160000
DTEND;TZID=America/New_York:20240728T220000
DTSTAMP:20240623T051015Z
URL:https://breathemiami.us/events/xix-international-ballet-festival/
SUMMARY:XIX International Ballet Festival
DESCRIPTION:The XIX International Ballet Festival proudly presents the Danc
 e Marathon\, a dynamic showcase of outstanding young ballet and contempora
 ry dancers from a diverse array of local and national ballet schools. This
  event features a mesmerizing array of solos and excerpts from renowned ba
 llets\, as well as innovative contemporary choreography\, celebrating the 
 vibrant art of dance. Best of all\, this event is free and open to the pub
 lic\, inviting everyone to partake in an evening of artistic brilliance.\n
 \nAttendees can savor delicious food and beverages available for purchase 
 during the performance. The Bandshell\, an open-air covered venue\, ensure
 s a delightful experience regardless of the weather\, as all programs proc
 eed rain or shine.\n\nJoin us for an enchanting celebration of dance that 
 highlights the talent and dedication of young performers\, bringing the ma
 gic of ballet and contemporary dance to the heart of the community.\n\nGET
  TICKETS\n
ATTACH;FMTTYPE=image/jpeg:https://breathemiami.us/wp-content/uploads/2024/
 06/XIX-International-Ballet-Festival.jpg
CATEGORIES:Things To Do
LOCATION:Miami Beach Bandshell\, 7275 Collins Avenue Miami Beach\, Miami\, 
 Florida\, 33141\,  FL \, United States
X-APPLE-STRUCTURED-LOCATION;VALUE=URI;X-ADDRESS=7275 Collins Avenue Miami B
 each\, Miami\, Florida\, 33141\,  FL \, United States;X-APPLE-RADIUS=100;X
 -TITLE=Miami Beach Bandshell:geo:0,0
END:VEVENT
BEGIN:VTIMEZONE
TZID:America/New_York
X-LIC-LOCATION:America/New_York
BEGIN:DAYLIGHT
DTSTART:20240310T030000
TZOFFSETFROM:-0500
TZOFFSETTO:-0400
TZNAME:EDT
END:DAYLIGHT
END:VTIMEZONE
END:VCALENDAR