BEGIN:VCALENDAR
VERSION:2.0
PRODID:-//wp-events-plugin.com//7.2.3.1//EN
TZID:America/New_York
X-WR-TIMEZONE:America/New_York
BEGIN:VEVENT
UID:554@breathemiami.us
DTSTART;TZID=America/New_York:20240712T170000
DTEND;TZID=America/New_York:20240712T200000
DTSTAMP:20240623T090315Z
URL:https://breathemiami.us/events/wynwood-miami-runway-show/
SUMMARY:Wynwood Miami Runway Show
DESCRIPTION:Prepare yourself for an evening of unparalleled fashion and ele
 gance amidst the vibrant streets of Wynwood\, Miami. Mark your calendars f
 or an unforgettable event on Friday\, July 12\, 2024\, starting at 5:00 PM
 \, where the latest trends and designs from renowned designers will take c
 enter stage.\n\nA Celebration of Style\n\nStep into Wynwood\, the pulsatin
 g heart of Miami's cultural scene\, renowned for its eclectic blend of art
  galleries\, street art masterpieces\, and a dynamic urban vibe. Here\, am
 idst this backdrop of creativity and innovation\, the Wynwood Miami Runway
  Show promises to showcase the pinnacle of fashion excellence. Witness top
  models grace the runway\, embodying the vision and craftsmanship of estee
 med designers who push the boundaries of style.\n\nWhat to Expect\n\n 	Fas
 hion Extravaganza: Experience a captivating display of the latest fashion 
 trends and cutting-edge designs\, curated to inspire and delight.\n 	Artis
 tic Ambiance: Immerse yourself in Wynwood's artistic atmosphere\, where ev
 ery corner tells a story through vibrant murals and urban art\, creating a
  perfect backdrop for the runway spectacle.\n 	Community of Creativity: Jo
 in fellow fashion enthusiasts\, influencers\, and trendsetters to celebrat
 e the artistry and innovation that define Miami's fashion landscape.\n 	Un
 forgettable Night: Whether you're passionate about fashion or simply love 
 a good night out\, the Wynwood Miami Runway Show promises an evening fille
 d with beauty\, elegance\, and the thrill of witnessing style evolution in
  real-time.\n\nEmbrace the Glamour\n\nGather your friends and immerse your
 self in the allure of high fashion at the Wynwood Miami Runway Show. This 
 is more than just an event—it's a celebration of creativity\, culture\, 
 and the transformative power of fashion. Don't miss your chance to be part
  of this exclusive experience that combines artistry with glamour in one o
 f Miami's most vibrant neighborhoods.\n\nJoin Us at Wynwood Miami Runway S
 how\n\nSecure your tickets now and prepare to be dazzled by an extraordina
 ry showcase of fashion brilliance. Whether you're seeking inspiration\, ne
 tworking opportunities\, or simply a night of unparalleled style\, the Wyn
 wood Miami Runway Show promises an unforgettable journey into the world of
  haute couture.\n\nGET TICKETS\n
ATTACH;FMTTYPE=image/jpeg:https://breathemiami.us/wp-content/uploads/2024/
 06/Wynwood-Miami-Runway-Show.jpg
LOCATION:Miami\, Miami \, Miami\, Florida\, United States
X-APPLE-STRUCTURED-LOCATION;VALUE=URI;X-ADDRESS=Miami \, Miami\, Florida\, 
 United States;X-APPLE-RADIUS=100;X-TITLE=Miami:geo:0,0
END:VEVENT
BEGIN:VTIMEZONE
TZID:America/New_York
X-LIC-LOCATION:America/New_York
BEGIN:DAYLIGHT
DTSTART:20240310T030000
TZOFFSETFROM:-0500
TZOFFSETTO:-0400
TZNAME:EDT
END:DAYLIGHT
END:VTIMEZONE
END:VCALENDAR