BEGIN:VCALENDAR
VERSION:2.0
PRODID:-//wp-events-plugin.com//7.2.3.1//EN
TZID:America/New_York
X-WR-TIMEZONE:America/New_York
BEGIN:VEVENT
UID:380@breathemiami.us
DTSTART;TZID=America/New_York:20240325T180000
DTEND;TZID=America/New_York:20240325T200000
DTSTAMP:20240313T215440Z
URL:https://breathemiami.us/events/worm-moon-full-moon-drum-circle-miami/
SUMMARY:WORM Moon Full Moon Drum Circle Miami @ 80th Lifeguard Stand 3/25/2
 4
DESCRIPTION:\nCelebrate the WORM Full Moon with Miami's Largest Drum Circle
 !\nCalling all rhythm lovers! Gather under the glow of the WORM Full Moon 
 (March 25th\, 2024) for a night of community\, music\, and joyous expressi
 on at Miami's largest regular drum circle.\nJoin the Beat:\n\n\n 	Location
 : Head to the north side of the 80th Lifeguard Stand on Miami Beach (7901 
 Collins Avenue). Look for the familiar gathering or follow the sounds of d
 rumming!\n 	Time: Things kick off with optional healing practices at 3:33 
 PM\, followed by yoga and sound healing. The communal drum circle starts a
 round 6 PM and continues into the night.\n 	Open to All: This is a communi
 ty event for all ages! Bring your friends\, family\, and a positive spirit
 .\n\nWhat to Bring:\n\n\n 	Blankets or Yoga Mats: Get comfortable for the 
 evening's festivities.\n 	BYOC (Bring Your Own Cup): Pack your reusable cu
 p for refreshments.\n 	Food and Drinks: Fuel yourself and share with other
 s (remember\, leave no trace!).\n 	Instruments (Optional): Got a drum\, pe
 rcussion instrument\, or LED props? Feel free to add to the vibrant sounds
 cape!\n 	Open Mind and Dancing Shoes: Come ready to dance\, jam\, and conn
 ect with the community – or simply enjoy the joyful atmosphere.\n\nRespe
 ct the Community:\n\n\n 	Leave No Trace: Keep Miami Beach beautiful by cle
 aning up after yourselves.\n 	Parking: Free parking is available after 6 P
 M\, but always check meters and signs.\n\nStay Connected:\n\n\n 	Tag us! S
 hare your WORM Full Moon experience on social media with @fullmoondrumcirc
 lemiami.\n 	Follow the Beat: Stay updated on future events by following @l
 ovefestexperience and @lovevillageexperience.\n\nThis is a self-organized 
 community event – everyone is welcome to join the rhythm and celebrate t
 he magic of the full moon! Let the drumming commence!\n\n\n\n\n\nBOOK SPOT
 S\n\n
ATTACH;FMTTYPE=image/jpeg:https://breathemiami.us/wp-content/uploads/2024/
 03/https___cdn.evbuc_.com_images_516968379_140963835636_1_original.jpeg
CATEGORIES:Wellness Events
LOCATION:80th Lifeguard Stand\, 7901 Collins Avenue \, Miami Beach\, \, Flo
 rida\, 33141\, United States
X-APPLE-STRUCTURED-LOCATION;VALUE=URI;X-ADDRESS=7901 Collins Avenue \, Miam
 i Beach\, \, Florida\, 33141\, United States;X-APPLE-RADIUS=100;X-TITLE=80
 th Lifeguard Stand:geo:0,0
END:VEVENT
BEGIN:VTIMEZONE
TZID:America/New_York
X-LIC-LOCATION:America/New_York
BEGIN:DAYLIGHT
DTSTART:20240310T030000
TZOFFSETFROM:-0500
TZOFFSETTO:-0400
TZNAME:EDT
END:DAYLIGHT
END:VTIMEZONE
END:VCALENDAR