BEGIN:VCALENDAR
VERSION:2.0
PRODID:-//wp-events-plugin.com//7.2.3.1//EN
TZID:America/New_York
X-WR-TIMEZONE:America/New_York
BEGIN:VEVENT
UID:923@breathemiami.us
DTSTART;TZID=America/New_York:20241010T080000
DTEND;TZID=America/New_York:20241010T100000
DTSTAMP:20240929T123749Z
URL:https://breathemiami.us/events/world-mental-health-day-partner-workout
 /
SUMMARY:World Mental Health Day Partner Workout
DESCRIPTION:On Thursday\, October 10th\, individuals are invited to partici
 pate in an engaging partner workout led by Demari Simpkins. This event emp
 hasizes the significance of teamwork and aims to foster a positive impact 
 on mental health while promoting a healthier and happier lifestyle.\n\nSet
  to take place at 8:00 AM at lululemon Pembroke Gardens\, the workout will
  seamlessly blend energizing exercises with mindful practices. Participant
 s can expect a lively session designed to elevate their mood\, alleviate s
 tress\, and strengthen connections with their workout partners.\n\nThe wor
 kout is inclusive and welcomes participants of all fitness levels\, with m
 odifications offered to accommodate different skill sets. Attendees are en
 couraged to arrive dressed in their workout gear\, ready to break a sweat.
  All that’s needed is a partner\, a bottle of water\, and a willingness 
 to engage in a fun and supportive atmosphere.\n\nThis special event not on
 ly provides a fantastic opportunity to enhance physical fitness but also s
 erves as a reminder of the importance of mental well-being through camarad
 erie and shared experiences. Join the community in celebrating World Menta
 l Health Day by prioritizing both physical and mental health in a supporti
 ve and invigorating setting!\n\nGET TICKETS\n
ATTACH;FMTTYPE=image/jpeg:https://breathemiami.us/wp-content/uploads/2024/
 09/World-Mental-Health-Day-Partner-Workout.jpg
CATEGORIES:Things To Do
LOCATION:lululemon\, 14564 Southwest 5th Street Pembroke Pines\, Miami\, Fl
 orida\, 33027\, FL\, United States
X-APPLE-STRUCTURED-LOCATION;VALUE=URI;X-ADDRESS=14564 Southwest 5th Street 
 Pembroke Pines\, Miami\, Florida\, 33027\, FL\, United States;X-APPLE-RADI
 US=100;X-TITLE=lululemon:geo:0,0
END:VEVENT
BEGIN:VTIMEZONE
TZID:America/New_York
X-LIC-LOCATION:America/New_York
BEGIN:DAYLIGHT
DTSTART:20240310T030000
TZOFFSETFROM:-0500
TZOFFSETTO:-0400
TZNAME:EDT
END:DAYLIGHT
END:VTIMEZONE
END:VCALENDAR