BEGIN:VCALENDAR
VERSION:2.0
PRODID:-//wp-events-plugin.com//7.2.3.1//EN
TZID:America/New_York
X-WR-TIMEZONE:America/New_York
BEGIN:VEVENT
UID:917@breathemiami.us
DTSTART;TZID=America/New_York:20241010T180000
DTEND;TZID=America/New_York:20241010T190000
DTSTAMP:20240929T101719Z
URL:https://breathemiami.us/events/world-mental-health-day-meditation/
SUMMARY:World Mental Health Day Meditation
DESCRIPTION:In honor of World Mental Health Day\, join a transformative wel
 lness event guided by Sabrina from Kanekshun\, dedicated to nurturing ment
 al well-being through mindfulness. This rejuvenating experience invites pa
 rticipants to reconnect with themselves and find inner calm through a blen
 d of beach meditation\, sound therapy\, and breathwork.\n\nSet against the
  serene backdrop of the Ocean Terrace at 1 Hotel South Beach\, the event o
 ffers a peaceful escape from the hustle of daily life\, where attendees ca
 n immerse themselves in the healing power of nature and meditative practic
 es. The gentle sound of waves complements the session\, providing the perf
 ect environment for introspection and relaxation. Sabrina will guide parti
 cipants through mindful techniques designed to promote emotional balance\,
  clarity\, and mental wellness.\n\nParticipants are encouraged to dress co
 mfortably\, as some portions of the session will involve lying down during
  sound healing and meditation. Due to the intimate nature of the event\, s
 pots are limited\, ensuring a personalized and serene experience for all a
 ttendees.\n\nIn the event of rain\, the gathering will be canceled\, with 
 full refunds provided. This special occasion is an opportunity to prioriti
 ze mental health and take a moment to breathe\, reflect\, and recharge wit
 h a community committed to well-being. Don't miss this chance to celebrate
  World Mental Health Day in a meaningful\, restorative way.\n\nGET TICKETS
 \n
ATTACH;FMTTYPE=image/jpeg:https://breathemiami.us/wp-content/uploads/2024/
 09/World-Mental-Health-Day-Meditation.jpg
CATEGORIES:Things To Do,Wellness Events
LOCATION:1 Hotel South Beach\, 2341 Collins Avenue\, Miami\, Florida\, 3313
 9\, FL\, United States
X-APPLE-STRUCTURED-LOCATION;VALUE=URI;X-ADDRESS=2341 Collins Avenue\, Miami
 \, Florida\, 33139\, FL\, United States;X-APPLE-RADIUS=100;X-TITLE=1 Hotel
  South Beach:geo:0,0
END:VEVENT
BEGIN:VTIMEZONE
TZID:America/New_York
X-LIC-LOCATION:America/New_York
BEGIN:DAYLIGHT
DTSTART:20240310T030000
TZOFFSETFROM:-0500
TZOFFSETTO:-0400
TZNAME:EDT
END:DAYLIGHT
END:VTIMEZONE
END:VCALENDAR