BEGIN:VCALENDAR
VERSION:2.0
PRODID:-//wp-events-plugin.com//7.2.3.1//EN
TZID:America/New_York
X-WR-TIMEZONE:America/New_York
BEGIN:VEVENT
UID:991@breathemiami.us
DTSTART;TZID=America/New_York:20241024T190000
DTEND;TZID=America/New_York:20241027T220000
DTSTAMP:20241003T144631Z
URL:https://breathemiami.us/events/woom-breath-journey-the-game-of-change-
 2/
SUMMARY:WOOM Breath Journey: The Game of Change
DESCRIPTION:The WOOM Breath Journey: The Game of Change invites participant
 s to explore the dynamic flow of life through conscious breathwork\, embra
 cing the peaks and valleys of the human experience. Life's journey is mark
 ed by moments of joy\, triumph\, pain\, and loss\, all interwoven in cycle
 s of beginnings and endings\, death and rebirth. The constant flux of exis
 tence often brings challenges\, and while some may resist these changes\, 
 this transformative experience encourages acceptance and growth. Rather th
 an viewing life’s transitions as problems to be solved\, participants wi
 ll learn to see them as part of a game—where there are no winners or los
 ers\, only those who engage consciously or unconsciously.\n\nThe session\,
  inspired by the Holotropic Breathwork Technique pioneered by Dr. Stanisla
 v Grof\, will guide participants to move beyond the illusion of separation
  and into a deeper connection with the great mystery of life. Through spec
 ific breathing patterns\, participants will uncover insights\, epiphanies\
 , and breakthroughs.\n\nThe journey includes:\n\n 	An informative talk on 
 breathwork\, its benefits\, and techniques to stay present\n 	Guided conte
 mplation to focus your intentions\n 	Three distinct breathing patterns to 
 facilitate transformation\n 	An evocative playlist designed to elevate the
  experience\n 	Live music and sound therapy for emotional release\n 	Journ
 aling for reflection\n 	Aromatherapy for enhanced relaxation\n 	A sharing 
 circle for community connection\n\nConsiderations Before the Journey:\n\n 
 	Release: What attachments\, fears\, or unhealthy habits would you like to
  let go of? Reflect on areas of your life where endings are occurring or r
 esistance is felt.\n 	Welcome: What qualities would you like to invite int
 o your life—self-love\, compassion\, acceptance\, or discipline? What is
  your vision for renewal and growth?\n 	Clarity: What areas of your life n
 eed more clarity\, such as relationships\, work\, or personal growth?\n\nH
 ow to Prepare: To heighten sensitivity and openness\, avoid alcohol and ot
 her substances for 48-72 hours before the session. Arrive with an empty st
 omach (3-4 hours minimum)\, and take time beforehand to reflect on what em
 otions or thoughts arise. Consider writing down your thoughts for clarity.
 \n\nWhat to Bring:\n\n 	Comfortable\, layered clothing\n 	An eye mask or s
 carf (a must)\n 	A mat\, pillow\, and blanket for comfort\n 	A refillable 
 water bottle\n 	A journal and pen for reflection\n\nImportant Notes: This 
 deep and powerful session leads participants into extraordinary states of 
 consciousness. Upregulated breath patterns are not suitable for those who 
 are pregnant\, suffer from acute asthma\, cardiovascular conditions\, or h
 ave experienced nervous system dysregulation recently.\n\nFacilitator: Eli
 an Zach\, founder of WOOM CENTER in New York\, brings her expertise in sou
 nd therapy and breathwork. Trained by renowned sound researcher and ethnom
 usicologist Alexandre Tannous\, Elian also holds advanced yoga certificati
 ons from master teachers across various disciplines. She now leads Lila Jo
 urney\, an electro-acoustic voyage that delves into extraordinary states o
 f consciousness\, which she co-creates worldwide.\n\nEvent Details: The se
 ssion will take place in a private home in Miami Shores (address provided 
 via email). Participants can register as Early Bird\, Punctual Bird\, or J
 ust a Bird.\n\nAbout Modern ŌM: Since 2015\, Modern ŌM has connected the
  community to world-class spiritual wellness programs. Offering over 20 ev
 ents monthly in Miami\, alongside retreats and trainings\, Modern ŌM supp
 orts a growing community of professionals and creatives who prioritize spi
 ritual well-being. Join us for a journey toward conscious evolution\, lett
 ing go of your baggage along the way.\n\nPraise from the Community:\n\n 	"
 I love the vibe of Modern ŌM!!" – Seema\n 	"Highly recommend this membe
 rship—you won’t regret it!" – Nadine\n 	"Modern ŌM truly cares abou
 t its community and members' conscious evolution." – Alessandra\n\nFor s
 piritual wellness\, events\, and resources\, follow Modern ŌM on Eventbri
 te\, Instagram\, TikTok\, and Miami Telegram.\n\nGET TICKETS\n
ATTACH;FMTTYPE=image/jpeg:https://breathemiami.us/wp-content/uploads/2024/
 10/WOOM-Breath-Journey-The-Game-of-Change-1.jpg
CATEGORIES:Wellness Events
LOCATION:Morningside\, Private Home\, Miami\, Florida\, 33137\, FL\, United
  States
X-APPLE-STRUCTURED-LOCATION;VALUE=URI;X-ADDRESS=Private Home\, Miami\, Flor
 ida\, 33137\, FL\, United States;X-APPLE-RADIUS=100;X-TITLE=Morningside:ge
 o:0,0
END:VEVENT
BEGIN:VTIMEZONE
TZID:America/New_York
X-LIC-LOCATION:America/New_York
BEGIN:DAYLIGHT
DTSTART:20240310T030000
TZOFFSETFROM:-0500
TZOFFSETTO:-0400
TZNAME:EDT
END:DAYLIGHT
END:VTIMEZONE
END:VCALENDAR