BEGIN:VCALENDAR
VERSION:2.0
PRODID:-//wp-events-plugin.com//7.2.3.1//EN
TZID:America/New_York
X-WR-TIMEZONE:America/New_York
BEGIN:VEVENT
UID:163@breathemiami.us
DTSTART;TZID=America/New_York;VALUE=DATE:20231109
DTEND;TZID=America/New_York;VALUE=DATE:20231112
DTSTAMP:20231104T214456Z
URL:https://breathemiami.us/events/wonderland-conference-miami/
SUMMARY:Wonderland Conference Miami 2023
DESCRIPTION:A captivating encounter that provides connectivity\, knowledge\
 , and motivation\nWonderland is a captivating gathering that brings togeth
 er prominent figures in various industries\, pioneering researchers\, and 
 enthusiastic individuals who share a common interest in exploring the unex
 plored possibilities of psychedelic medicine\, longevity\, and mental heal
 th. Be part of a large community of participants as we uncover the hidden 
 knowledge that holds the key to a more promising future.\n\n\n 	Talks\nExp
 erience the opportunity to gain knowledge from renowned specialists\, enga
 ge in exchanges\, and uncover upcoming developments in wellness.\n 	Worksh
 ops\nObtaining practical expertise in various subjects is essential to adv
 ance your career. Continuing education (CE) accreditation is available for
  specific workshops\, providing you with a valuable opportunity to enhance
  your knowledge and skills in your chosen field. These workshops can cover
  a wide range of topics\, from leadership and management to technical skil
 ls and industry-specific knowledge. By participating in these workshops an
 d obtaining CE accreditation\, you can stay up-to-date with the latest tre
 nds and developments in your industry and improve your professional credib
 ility.\n\n\n 	Wellness\nIndulge in daily yoga sessions\, morning breathwor
 k\, integration circles\, and other activities designed to help you connec
 t with your inner self.\n\n\n 	Networking\nJoin the ranks of industry trai
 lblazers\, key decision-makers\, and visionaries at Wonderland.\n\n\n 	Exp
 erience\nFind hidden scavenger hunts\, experience transformative new techn
 ologies\, and explore healing art exhibitions at Wonderland.\n\n\n 	Comedy
 \nImmerse yourself in the mind of a psychedelic astronaut with a mind-broa
 dening comedy show by Shane Mauss that will captivate you.\n\n\n 	Impact\n
 Every year\, we contribute a percentage of ticket sales to nonprofit organ
 izations. Through our scholarship program\, we have supported numerous att
 endees.\n\n\n 	Nightlife\nDiscover community-hosted events\, official part
 ies\, and a multitude of private dinners during Miami Psychedelic Week.\n\
 nClick here to learn more about the Wonderland Miami\n\n&nbsp\;\n\n\nGET T
 ICKETS\n\n
ATTACH;FMTTYPE=image/jpeg:https://breathemiami.us/wp-content/uploads/2023/
 10/chrome_gZscXAjxft.png
CATEGORIES:Things To Do,Wellness Events
LOCATION:Ice Palace Studios\, 1400 N Miami Ave\, Miami\, Florida\, 33136\, 
 United States
X-APPLE-STRUCTURED-LOCATION;VALUE=URI;X-ADDRESS=1400 N Miami Ave\, Miami\, 
 Florida\, 33136\, United States;X-APPLE-RADIUS=100;X-TITLE=Ice Palace Stud
 ios:geo:0,0
END:VEVENT
BEGIN:VTIMEZONE
TZID:America/New_York
X-LIC-LOCATION:America/New_York
BEGIN:STANDARD
DTSTART:20231105T010000
TZOFFSETFROM:-0400
TZOFFSETTO:-0500
TZNAME:EST
END:STANDARD
END:VTIMEZONE
END:VCALENDAR