BEGIN:VCALENDAR
VERSION:2.0
PRODID:-//wp-events-plugin.com//7.2.3.1//EN
TZID:America/New_York
X-WR-TIMEZONE:America/New_York
BEGIN:VEVENT
UID:759@breathemiami.us
DTSTART;TZID=America/New_York:20240912T150000
DTEND;TZID=America/New_York:20240912T183000
DTSTAMP:20240825T073327Z
URL:https://breathemiami.us/events/women-on-2024-championing-equality-top-
 voices-in-business-and-law/
SUMMARY:Women-ON 2024: Championing Equality\, Top Voices in Business and La
 w
DESCRIPTION:As part of our ongoing commitment to diversity and inclusion th
 rough the WOMEN ON program\, we are excited to present Women-ON 2024: Cham
 pioning Equality. This year's event is set to be the most influential yet\
 , bringing together prominent thought leaders and experts to address and a
 dvance gender equality within the realms of business and law.\n\nEvent Hig
 hlights:\n\nTwo Thought-Provoking Panels:\n\n 	Panel 1: Corporate Diversit
 y – Integrating Policies for an Inclusive Workplace This session will de
 lve into how leading companies are implementing and evolving corporate pol
 icies to foster a more inclusive and diverse work environment. It will fea
 ture discussions on successful strategies and real-world case studies\, fo
 cusing on the integration of these policies into corporate culture and ope
 rations. The panel will also address the challenges faced by women in seni
 or leadership roles and explore how emerging technologies\, such as AI\, i
 mpact women’s professional lives.\n 	Panel 2: Women in Law – Breaking 
 Barriers Through Legislation and Leadership This panel will explore the im
 pact of gender equality legislation in the U.S. and its role in enhancing 
 workplace conditions for women. Attendees will hear from legal experts and
  trailblazing businesswomen who have overcome barriers in traditionally ma
 le-dominated fields. They will share their experiences and insights\, prov
 iding valuable solutions to ongoing issues like the gender pay gap and oth
 er challenges.\n\nUpcoming Speakers:\n\nStay tuned for the announcement of
  our distinguished speakers\, who will include leading figures with extens
 ive experience in women's advocacy and a deep commitment to promoting dive
 rsity. This edition will feature the largest number of panelists to date\,
  offering a wealth of perspectives and expertise.\n\nJoin Us:\n\nDon’t m
 iss this unique opportunity to connect with inspiring female leaders and e
 ngage with a community dedicated to driving progress in diversity\, equity
 \, and inclusion. Mark your calendars for this essential event and prepare
  to gain insights into the latest trends in corporate DEI policies and the
 ir legal implications.\n\nBe a part of Women-ON 2024 and contribute to the
  ongoing conversation about equality and advancement in business and law.\
 n\nGET TICKETS\n
ATTACH;FMTTYPE=image/jpeg:https://breathemiami.us/wp-content/uploads/2024/
 08/Women-ON-2024-Championing-Equality-Top-Voices-in-Business-and-Law.jpg
CATEGORIES:Things To Do,Wellness Events
LOCATION:Greenberg Traurig\, 333 Southeast 2nd Avenue #4400 \, Miami\, Flor
 ida\, 33131\, FL\, United States
X-APPLE-STRUCTURED-LOCATION;VALUE=URI;X-ADDRESS=333 Southeast 2nd Avenue #4
 400 \, Miami\, Florida\, 33131\, FL\, United States;X-APPLE-RADIUS=100;X-T
 ITLE=Greenberg Traurig:geo:0,0
END:VEVENT
BEGIN:VTIMEZONE
TZID:America/New_York
X-LIC-LOCATION:America/New_York
BEGIN:DAYLIGHT
DTSTART:20240310T030000
TZOFFSETFROM:-0500
TZOFFSETTO:-0400
TZNAME:EDT
END:DAYLIGHT
END:VTIMEZONE
END:VCALENDAR