BEGIN:VCALENDAR
VERSION:2.0
PRODID:-//wp-events-plugin.com//7.2.3.1//EN
TZID:America/New_York
X-WR-TIMEZONE:America/New_York
BEGIN:VEVENT
UID:235@breathemiami.us
DTSTART;TZID=America/New_York:20240128T150000
DTEND;TZID=America/New_York:20240128T160000
DTSTAMP:20240221T025558Z
URL:https://breathemiami.us/events/with-agustina-cominos/
SUMMARY:Twin Hearts Meditation with Agustina Caminos
DESCRIPTION:Event Information:\n\nExperience the profound serenity of a Twi
 n Hearts Meditation with Faena Spa Director Agustina Caminos. Immerse your
 self in this transformative practice where we radiate love outward\, creat
 ing a harmonious flow to graciously receive the abundant positivity that t
 he universe has to offer. Join us on Sunday\, January 28\, 2024\, from 3:0
 0 PM to 4:00 PM EST at Faena Hotel\, 3201 Collins Avenue\, Miami Beach\, F
 L 33140\, for an hour of tranquility and heart-centered connection.\n\nThi
 s event\, facilitated by Agustina Caminos\, a renowned Pranic Healing inst
 ructor and spiritual guide\, introduces the simple yet powerful Meditation
  on Twin Hearts technique. As we cleanse and illuminate our aura using spi
 ritual energy\, the mind calms\, emotions settle\, and a profound sense of
  stillness and awareness unfolds. Think of it as a spiritual shower\, leav
 ing you with a brighter\, cleaner aura.\n\nDate and Time:Sunday\, January 
 28\, 2024 · 3 - 4pm EST\n\nAbout this event:\n\n 	Escape into an hour of 
 serenity and positive energy with Faena Spa Director Agustina Caminos duri
 ng the Twin Hearts Meditation. Join us in this transformative practice as 
 we extend love to the Earth\, paving the way to gracefully receive its abu
 ndant kindness in return.\n\nDuration: 1 hour\n\nTicket Information:\n\n 	
 Mobile eTicket\n\n\nGET TICKETS\n\n\nWorkout Session Details:\n\n 	Agustin
 a Caminos\, the Wellness Director for Faena Group\, will guide you through
  the powerful Twin Hearts Meditation. This practice\, introduced by Master
  Choa Kok Sui\, serves as a spiritual shower\, cleansing and brightening t
 he aura\, promoting calmness\, stillness\, and heightened awareness.\n\nEs
 sentials to Bring:\n\n 	A refillable water bottle\n 	A meditation cushion 
 or yoga mat\n 	An open heart\n\nParking Options:\n\n 	Valet parking at Fae
 na Hotel or municipal lot 1 block north of Faena.\n
ATTACH;FMTTYPE=image/jpeg:https://breathemiami.us/wp-content/uploads/2023/
 12/https___cdn.evbuc_.com_images_624230419_1145507310493_1_original.jpg
CATEGORIES:Wellness Events
LOCATION:Faena Hotel\, 3201 Collins Avenue\, Miami Beach\, FL\, 33140\, Uni
 ted States
X-APPLE-STRUCTURED-LOCATION;VALUE=URI;X-ADDRESS=3201 Collins Avenue\, Miami
  Beach\, FL\, 33140\, United States;X-APPLE-RADIUS=100;X-TITLE=Faena Hotel
 :geo:0,0
END:VEVENT
BEGIN:VTIMEZONE
TZID:America/New_York
X-LIC-LOCATION:America/New_York
BEGIN:STANDARD
DTSTART:20231105T010000
TZOFFSETFROM:-0400
TZOFFSETTO:-0500
TZNAME:EST
END:STANDARD
END:VTIMEZONE
END:VCALENDAR