BEGIN:VCALENDAR
VERSION:2.0
PRODID:-//wp-events-plugin.com//7.2.3.1//EN
TZID:America/New_York
X-WR-TIMEZONE:America/New_York
BEGIN:VEVENT
UID:445@breathemiami.us
DTSTART;TZID=America/New_York:20240501T183000
DTEND;TZID=America/New_York:20240501T193000
DTSTAMP:20240419T001131Z
URL:https://breathemiami.us/events/wine-down-yoga-sound-healing/
SUMMARY:RSVP through SweatPals: Wine Down Yoga & Sound Healing
DESCRIPTION:\nPower Yoga\, Sound Bath &amp\; Wine! Donate &amp\; Unwind at 
 Mondrian (Join SweatPals Group Chat for Updates!)\nCalling all yogis and w
 ellness enthusiasts! Join a donation-based power yoga class every Wednesda
 y at the Mondrian Hotel's scenic second-floor terrace. This unique experie
 nce combines invigorating movement with a relaxing sound bath\, leaving yo
 u feeling energized and centered.\nSweat it Out &amp\; Find Inner Peace:\n
 \n\n 	45-Minute Power Yoga Flow: Build strength\, flexibility\, and inner 
 fire with a dynamic vinyasa yoga sequence.\n 	15-Minute Sound Bath: Immers
 e yourself in soothing sounds and vibrations\, promoting relaxation and st
 ress relief.\n\nIndulge &amp\; Connect:\n\n\n 	Free Glass of Wine: After y
 our practice\, unwind with a complimentary glass of wine at the Mondrian's
  Gem Bar (voucher included).\n 	Flexible Donation Options: Support the ins
 tructor and this unique event through donations on the SweatPals app\, dir
 ectly at the class\, or donate directly to Aimee (details in SweatPals gro
 up chat).\n\nStay Informed (Join the Group Chat):\nWhile details may chang
 e\, this event promises a dynamic yoga experience followed by a blissful s
 ound bath and a delightful glass of wine. However\, for the most up-to-dat
 e information and any announcements\, please join Johanna Thompson's group
  chat on the SweatPals app.\nDiscover More Wellness in Miami:\nThe SweatPa
 ls app is your one-stop shop for finding fun and exciting fitness and well
 ness events throughout Miami. Download the app today and explore a variety
  of offerings to keep you active and feeling your best!\nDon't Miss Out!\n
 Reserve your spot for this donation-based yoga class and enjoy a powerful 
 practice\, a relaxing sound bath\, and a refreshing glass of wine. Join th
 e SweatPals app to stay informed and connect with the Miami wellness commu
 nity!\n\n\n\nBUY TICKETS\n
ATTACH;FMTTYPE=image/jpeg:https://breathemiami.us/wp-content/uploads/2024/
 04/https___cdn.evbuc_.com_images_744342239_1665699634523_1_original.jpeg
CATEGORIES:Wellness Events
LOCATION:1100 West Ave\, 1100 West Avenue\, Miami Beach\, Florida\, 33139\,
  United States
X-APPLE-STRUCTURED-LOCATION;VALUE=URI;X-ADDRESS=1100 West Avenue\, Miami Be
 ach\, Florida\, 33139\, United States;X-APPLE-RADIUS=100;X-TITLE=1100 West
  Ave:geo:0,0
END:VEVENT
BEGIN:VTIMEZONE
TZID:America/New_York
X-LIC-LOCATION:America/New_York
BEGIN:DAYLIGHT
DTSTART:20240310T030000
TZOFFSETFROM:-0500
TZOFFSETTO:-0400
TZNAME:EDT
END:DAYLIGHT
END:VTIMEZONE
END:VCALENDAR