BEGIN:VCALENDAR
VERSION:2.0
PRODID:-//wp-events-plugin.com//7.2.3.1//EN
TZID:America/New_York
X-WR-TIMEZONE:America/New_York
BEGIN:VEVENT
UID:817@breathemiami.us
DTSTART;TZID=America/New_York:20240928T150000
DTEND;TZID=America/New_York:20240928T170000
DTSTAMP:20240907T015716Z
URL:https://breathemiami.us/events/wim-hof-method-fundamentals-workshop-ho
 listic-approach/
SUMMARY:Wim Hof Method Fundamentals Workshop + Holistic Approach
DESCRIPTION:Elevate your physical and mental health with a transformative e
 xperience at the Wim Hof Method Fundamentals Workshop. Set to take place o
 n XXX\, this unique event integrates breathwork\, cold exposure\, and mind
 set training to foster profound growth and healing.\n\nWorkshop Overview:\
 n\nJoin us to explore the Wim Hof Method (WHM) and its remarkable benefits
 . This workshop offers a comprehensive dive into the science and principle
 s behind the WHM\, providing you with tools to harness the power of your a
 utonomic nervous system. You’ll gain firsthand experience in managing yo
 ur breath\, overcoming fear of the cold\, and using your mindset to transf
 orm challenges into opportunities for personal development.\n\nWorkshop Be
 nefits:\n\n 	Enhanced Mental Clarity: Improve focus and mental clarity.\n 
 	Improved Physical Performance: Boost your athletic performance.\n 	Increa
 sed Creativity: Stimulate creative thinking and problem-solving.\n 	Stress
  Reduction: Alleviate stress and anxiety.\n 	Pain Tolerance: Increase your
  ability to tolerate pain.\n 	Better Sleep: Achieve more restful and resto
 rative sleep.\n 	Inflammation Reduction: Lower inflammation in the body.\n
  	Metabolism Boost: Accelerate metabolism and support weight loss.\n 	Expa
 nded Lung Capacity: Enhance breathing pathways and lung function.\n 	Stren
 gthened Immune System: Boost immunity\, willpower\, and energy levels.\n 	
 Cardiovascular Health: Improve blood circulation and cardiovascular fitnes
 s.\n 	Emotional Healing: Release emotional trauma and foster emotional bal
 ance.\n\nWhat to Expect:\n\n 	Theory of WHM: Gain an understanding of the 
 Wim Hof Method and its scientific basis.\n 	Guided Ice Bath: Receive exper
 t guidance on safely experiencing ice baths (optional).\n 	Breathwork Sess
 ion: Engage in powerful breathwork exercises to enhance your overall well-
 being.\n 	Mindset Training: Develop mental resilience and strategies for o
 vercoming challenges.\n 	Meditation: Participate in mindfulness practices 
 to deepen your connection to self.\n 	Holistic Approach: Experience a vari
 ety of techniques to support physical\, mental\, and spiritual growth.\n 	
 Sound Bath Meditation: Enjoy a soothing sound bath to promote relaxation a
 nd harmony.\n\nExpert Instructor: The workshop will be led by Yury Opendik
 \, an expert in the Wim Hof Method. Yury will provide not only instruction
  in WHM but also share insights from various personal development practice
 s\, offering a holistic approach to self-connection and wellness.\n\nWheth
 er you’re aiming to enhance your health\, alleviate symptoms of illness\
 , or simply explore the WHM\, this workshop provides valuable tools and ex
 periences for all. Don’t miss this opportunity to transform your well-be
 ing through the power of breath\, cold exposure\, and mindset training.\n\
 nGET TICKETS\n
ATTACH;FMTTYPE=image/jpeg:https://breathemiami.us/wp-content/uploads/2024/
 09/Wim-Hof-Method-Fundamentals-Workshop-Holistic-Approach.jpg
CATEGORIES:Mindfulness Events,Things To Do,Wellness Events
LOCATION:Miami Yoga Garage\, 1940 NW Miami Ct Miami\, Miami\, United States
 \, 33136\, FL\, United States
X-APPLE-STRUCTURED-LOCATION;VALUE=URI;X-ADDRESS=1940 NW Miami Ct Miami\, Mi
 ami\, United States\, 33136\, FL\, United States;X-APPLE-RADIUS=100;X-TITL
 E=Miami Yoga Garage:geo:0,0
END:VEVENT
BEGIN:VTIMEZONE
TZID:America/New_York
X-LIC-LOCATION:America/New_York
BEGIN:DAYLIGHT
DTSTART:20240310T030000
TZOFFSETFROM:-0500
TZOFFSETTO:-0400
TZNAME:EDT
END:DAYLIGHT
END:VTIMEZONE
END:VCALENDAR