BEGIN:VCALENDAR
VERSION:2.0
PRODID:-//wp-events-plugin.com//7.2.3.1//EN
TZID:America/New_York
X-WR-TIMEZONE:America/New_York
BEGIN:VEVENT
UID:975@breathemiami.us
DTSTART;TZID=America/New_York:20241026T120000
DTEND;TZID=America/New_York:20241026T150000
DTSTAMP:20241003T093956Z
URL:https://breathemiami.us/events/white-coat-glam-beauty-brunch/
SUMMARY:White Coat Glam Beauty Brunch
DESCRIPTION:The White Coat Glam Beauty Brunch is an exclusive event that bl
 ends beauty\, fashion\, and wellness. Attendees will enjoy a luxurious bru
 nch while gaining insights into the latest trends in skincare\, beauty tre
 atments\, and personal wellness. It's a perfect opportunity to connect wit
 h professionals from the beauty and healthcare industries\, all while indu
 lging in an elegant\, glam-filled atmosphere. This event promises an enric
 hing experience\, offering networking\, learning\, and a touch of glamour 
 for all beauty enthusiasts.\n\nGET TICKETS\n
ATTACH;FMTTYPE=image/jpeg:https://breathemiami.us/wp-content/uploads/2024/
 10/White-Coat-Glam-Beauty-Brunch.jpg
CATEGORIES:Wellness Events
LOCATION:11614 SW 88th St\, 11614 Southwest 88th Street\, Miami\, Florida\,
  33176\, FL\, United States
X-APPLE-STRUCTURED-LOCATION;VALUE=URI;X-ADDRESS=11614 Southwest 88th Street
 \, Miami\, Florida\, 33176\, FL\, United States;X-APPLE-RADIUS=100;X-TITLE
 =11614 SW 88th St:geo:0,0
END:VEVENT
BEGIN:VTIMEZONE
TZID:America/New_York
X-LIC-LOCATION:America/New_York
BEGIN:DAYLIGHT
DTSTART:20240310T030000
TZOFFSETFROM:-0500
TZOFFSETTO:-0400
TZNAME:EDT
END:DAYLIGHT
END:VTIMEZONE
END:VCALENDAR