BEGIN:VCALENDAR
VERSION:2.0
PRODID:-//wp-events-plugin.com//7.2.3.1//EN
TZID:America/New_York
X-WR-TIMEZONE:America/New_York
BEGIN:VEVENT
UID:312@breathemiami.us
DTSTART;TZID=America/New_York:20231231T093000
DTEND;TZID=America/New_York:20231231T103000
DTSTAMP:20231227T201537Z
URL:https://breathemiami.us/events/wellness-yoga/
SUMMARY:$5 Vizcaya Village Wellness | Yoga\, Tai Chi\, Zumba and More
DESCRIPTION:Event Information:\n\n\n\n\n\n\n\n\n\n\n\n\n\nEmbrace the warmt
 h and beauty of Miami's sun with our all-levels yoga class at the Vizcaya 
 Village Farmers Market! Join us for a delightful and invigorating experien
 ce under the open sky. Let the expert instructors from Hanu Yoga Studio gu
 ide you through a fun-filled session that combines exercise and meditation
 . Whether you're a seasoned yogi or a beginner\, this class is designed fo
 r everyone. Mark your calendar for a rejuvenating day in the sun\, surroun
 ded by the vibrant atmosphere of Vizcaya Village. See you there!\n\n\n\n\n
 \n\n\n\n\n\n\n\n\nDate and Time:Sunday\, December 31 · 9:30 - 10:30am EST
 \n\nAbout this event:\n\n 	Step into the serene embrace of Vizcaya Village
  for a rejuvenating wellness experience under the Miami sun! The first thr
 ee Sundays of the month feature an all-level outdoor yoga class led by Han
 u Yoga Studio's seasoned instructors\, combining invigorating exercise wit
 h soulful meditation.The final class of the month brings a different welln
 ess class on rotation\, offering a variety of options from Tai Chi and Zum
 ba to sound bowl meditation. Check back for the latest schedule and detail
 s each month.Special Discount: Enjoy a $5 discount on the same day’s day
 time admission to the east side of the prestigious Vizcaya Museum and Gard
 ens. Detailed instructions for redeeming this exclusive discount will be p
 rovided at the end of the class.\n\nPlease ensure Eventbrite registration 
 to secure your spot\, sign the Informed Consent Form for safety\, and come
  prepared for an outdoor experience with your yoga mat and water bottle. J
 oin us for a mindful Sunday\, embracing the warmth and beauty of Miami's w
 eather\, and take advantage of the special discount for a delightful visit
  to Vizcaya Museum and Gardens.\n\nDuration: 1 hour\n\nTicket Information:
 \n\n 	Ticket Price: Free for Vizcaya Members\n 	General Admission: $5 (Dis
 count available for daytime admission to Vizcaya Museum and Gardens)\n\n\n
 GET TICKETS\n\n\nWorkout Session Details:\n\n 	Yoga Class: All-level outdo
 or yoga class led by Hanu Yoga Studio's seasoned instructors.\n 	Additiona
 l Classes: The final class of the month features a different wellness clas
 s on rotation\, including Tai Chi\, Zumba\, sound bowl meditation\, and ot
 her options.\n 	Class Duration: Approximately 60 minutes.\n 	Start Time: 9
 :30 a.m.\n\nEssentials to Bring:\n\n 	Mandatory Registration: Eventbrite r
 egistration is mandatory for securing a spot.\n 	Informed Consent Form: Al
 l attendees are required to sign an Informed Consent Form during Eventbrit
 e registration.\n 	Comfortable Dress: Dress comfortably for an outdoor exp
 erience\, considering the warmth and beauty of Miami’s weather.\n 	Yoga 
 Mat: Bring your yoga mat.\n 	Water Bottle: Bring a water bottle with a clo
 sable lid to stay hydrated.\n\nParking Options:\n\n 	Details about parking
  options are not provided. Attendees are encouraged to check with the venu
 e for parking facilities.\n
ATTACH;FMTTYPE=image/jpeg:https://breathemiami.us/wp-content/uploads/2023/
 12/https___cdn.evbuc_.com_images_645250999_116938788349_1_original.jpg
CATEGORIES:Wellness Events,Yoga Events
LOCATION:Vizcaya Village Farmers Market\, 3250 South Miami Avenue Miami\, \
 , Avenue Miami\, USA\, 33129\,  FL \, United States
X-APPLE-STRUCTURED-LOCATION;VALUE=URI;X-ADDRESS=3250 South Miami Avenue Mia
 mi\, \, Avenue Miami\, USA\, 33129\,  FL \, United States;X-APPLE-RADIUS=1
 00;X-TITLE=Vizcaya Village Farmers Market:geo:0,0
END:VEVENT
BEGIN:VTIMEZONE
TZID:America/New_York
X-LIC-LOCATION:America/New_York
BEGIN:STANDARD
DTSTART:20231105T010000
TZOFFSETFROM:-0400
TZOFFSETTO:-0500
TZNAME:EST
END:STANDARD
END:VTIMEZONE
END:VCALENDAR