BEGIN:VCALENDAR
VERSION:2.0
PRODID:-//wp-events-plugin.com//7.2.3.1//EN
TZID:America/New_York
X-WR-TIMEZONE:America/New_York
BEGIN:VEVENT
UID:967@breathemiami.us
DTSTART;TZID=America/New_York:20241030T080000
DTEND;TZID=America/New_York:20241030T090000
DTSTAMP:20241003T022105Z
URL:https://breathemiami.us/events/wellness-wednesdays-sound-bath-meditati
 on/
SUMMARY:Wellness Wednesdays: Sound Bath Meditation
DESCRIPTION:Wellness Wednesdays: Sound Bath Meditation invites participants
  to unwind and rejuvenate at Inked Zen. This calming and immersive sound b
 ath meditation offers a serene escape from the hustle and bustle of daily 
 life. Attendees will experience the therapeutic effects of sound\, designe
 d to promote relaxation and restore balance to the mind\, body\, and soul.
 \n\nHosted by certified sound practitioner Nicolas Sotomayor\, this weekly
  series provides a unique opportunity to engage in a full-body listening e
 xperience. The sound bath intentionally employs various sound frequencies 
 to create a soothing atmosphere\, inviting participants to let go of stres
 s and find their inner peace.\n\nAs the soothing sounds envelop them\, att
 endees can expect a transformative journey toward relaxation and harmony. 
 This midweek retreat is perfect for anyone looking to enhance their well-b
 eing and reconnect with themselves.\n\nParticipants are encouraged to arri
 ve by 7:45 PM for the best experience. Free street parking is available\, 
 and the event is located on the second floor. Attendees should bring their
  yoga mats\, as everything else will be provided to ensure a comfortable a
 nd peaceful environment. Don’t miss this opportunity to nurture your min
 d\, body\, and spirit at Wellness Wednesdays.\n\nGET TICKETS\n
ATTACH;FMTTYPE=image/jpeg:https://breathemiami.us/wp-content/uploads/2024/
 10/Wellness-Wednesdays-Sound-Bath-Meditation.jpg
CATEGORIES:Wellness Events
END:VEVENT
BEGIN:VTIMEZONE
TZID:America/New_York
X-LIC-LOCATION:America/New_York
BEGIN:DAYLIGHT
DTSTART:20240310T030000
TZOFFSETFROM:-0500
TZOFFSETTO:-0400
TZNAME:EDT
END:DAYLIGHT
END:VTIMEZONE
END:VCALENDAR