BEGIN:VCALENDAR
VERSION:2.0
PRODID:-//wp-events-plugin.com//7.2.3.1//EN
TZID:America/New_York
X-WR-TIMEZONE:America/New_York
BEGIN:VEVENT
UID:356@breathemiami.us
DTSTART;TZID=America/New_York:20240307T183000
DTEND;TZID=America/New_York:20240307T193000
DTSTAMP:20240303T192934Z
URL:https://breathemiami.us/events/wellness-program-reiki-circle/
SUMMARY:Wellness Program Reiki Circle
DESCRIPTION:If the event is full\, you can join the waitlist and be notifie
 d if space becomes available.\n\nDiscover the transformative power of a Re
 iki circle—a gathering where Reiki masters and practitioners channel hea
 ling energy. Through meditation and collective intention\, experience a se
 nse of unity and well-being. Suitable for all levels.\n\nMeet Tammie Luke\
 , a holistic coach\, Reiki Master Teacher\, and spiritual mentor. Rooted i
 n New York’s vibrant energy\, Tammie’s journey is woven with esoteric 
 wisdom. She’s a mother of five daughters\, each a testament to resilienc
 e. With Ethereal Affinity\, Tammie offers a holistic approach to healing\,
  from energy work to metaphysical products. Through community events\, she
  fosters oneness\, guiding individuals on a transformative journey.\n\n\n\
 nGET FREE TICKETS\n\n
ATTACH;FMTTYPE=image/jpeg:https://breathemiami.us/wp-content/uploads/2024/
 03/https___cdn.evbuc_.com_images_662712719_222083688363_1_original.jpg
LOCATION:The Pride Center at Equality Park\, 2040 North Dixie Highway Wilto
 n Manors\, Miami\, Florida\, 33305\, United States
X-APPLE-STRUCTURED-LOCATION;VALUE=URI;X-ADDRESS=2040 North Dixie Highway Wi
 lton Manors\, Miami\, Florida\, 33305\, United States;X-APPLE-RADIUS=100;X
 -TITLE=The Pride Center at Equality Park:geo:0,0
END:VEVENT
BEGIN:VTIMEZONE
TZID:America/New_York
X-LIC-LOCATION:America/New_York
BEGIN:STANDARD
DTSTART:20231105T010000
TZOFFSETFROM:-0400
TZOFFSETTO:-0500
TZNAME:EST
END:STANDARD
END:VTIMEZONE
END:VCALENDAR